Workbook

Sheet Rekapitulácia stavby
A1: Export Komplet | BA1: 2.0 | BT1: False | BU1: False | BV1: {04239680-ec12-47d7-9ffe-5b705b7e1d11}
AR2: >> skryté stĺpce << | BS2: 0,01 | BT2: 20
BS3: 0,01 | BT3: 20
D4: REKAPITULÁCIA STAVBY | AS4: v --- nižšie sa nachádzajú doplnkové a pomocné údaje k zostavám --- v | BS4: 0,001
D5: Kód: | BS5: 0,01
D6: Stavba: | K6: Rekonštr.cesty II/499 Havran - naviac práce 1 (km 2,500-4,3716) | BS6: 0,01
D7: JKSO: | AK7: KS: | BS7: 0,01
D8: Miesto: | AK8: Dátum: | BS8: 0,01
BS9: 0,01
D10: Objednávateľ: | AK10: IČO: | AN10: 37836901 | BS10: 0,01
E11: Trnavský samosprávny kraj | AK11: IČ DPH: | BS11: 0,01
BS12: 0,01
D13: Zhotoviteľ: | AK13: IČO: | AN13: 00896225 | BS13: 0,01
E14: Swietelsky-Slovakia spol. s r.o. | AK14: IČ DPH: | AN14: SK2020294144 | BS14: 0,01
BS15: False
D16: Projektant: | AK16: IČO: | BS16: False
AK17: IČ DPH: | BS17: True
BS18: 0,01
D19: Spracovateľ: | AK19: IČO: | BS19: 0,01
AK20: IČ DPH: | BS20: True
D22: Poznámka:
D26: Cena bez DPH | AK26: =ROUND(AG91,2) -> 105385
L28: Sadzba dane | W28: Základ dane | AK28: Výška dane
D29: DPH | F29: základná
F30: znížená | L30: 0.2 | W30: =AK26 -> 105385 | AK30: =W30*0.2 -> 21077
D32: Cena s DPH | T32: v | X32: EUR | AK32: =AK26+AK30 -> 126462
D46: Projektant | AH46: Spracovateľ
D57: Dátum a podpis: | V57: Pečiatka | AH57: Dátum a podpis: | AM57: Pečiatka
D61: Objednávateľ | AH61: Zhotoviteľ
D72: Dátum a podpis: | V72: Pečiatka | AH72: Dátum a podpis: | AM72: Pečiatka
C79: REKAPITULÁCIA OBJEKTOV STAVBY
C81: Kód: | L81: =K5 -> 0
C82: Stavba: | L82: =K6 -> Rekonštr.cesty II/499 Havran - naviac práce 1 (km 2,500-4,3716)
C84: Miesto: | L84: =IF(K8="","",K8) | AI84: Dátum:
C86: Objednávateľ: | L86: =IF(E11= "","",E11) -> Trnavský samosprávny kraj | AI86: Projektant: | AM86: =IF(E17="","",E17) | AS86: Informatívne údaje z listov zákaziek
C87: Zhotoviteľ: | L87: =IF(E14="","",E14) -> Swietelsky-Slovakia spol. s r.o. | AI87: Spracovateľ: | AM87: =IF(E20="","",E20)
C89: Kód | I89: Popis | AG89: Cena bez DPH [EUR] | AN89: Cena s DPH [EUR] | AQ89: Typ | AS89: z toho Ostat._x000D_ náklady [EUR] | AT89: DPH [EUR] | AU89: Normohodiny [h] | AV89: DPH základná [EUR] | AW89: DPH znížená [EUR] | AX89: DPH základná prenesená_x000D_ [EUR] | AY89: DPH znížená prenesená_x000D_ [EUR] | AZ89: Základňa_x000D_ DPH základná | BA89: Základňa_x000D_ DPH znížená | BB89: Základňa_x000D_ DPH zákl. prenesená | BC89: Základňa_x000D_ DPH zníž. prenesená | BD89: Základňa_x000D_ DPH nulová
C91: Náklady z rozpočtov | AG91: =ROUND(AG92+AG95,2) -> 105385 | AN91: =AN92+AN95 -> 126462 | AS91: =ROUND(AS92+AS95,2) -> 0 | AT91: =ROUND(SUM(AV91:AW91),2) -> 10693.83 | AU91: =ROUND(AU92+AU95,5) -> 1620.7256 | AV91: =ROUND(AZ91*L29,2) -> 0 | AW91: =ROUND(BA91*L30,2) -> 10693.83 | AX91: =ROUND(BB91*L29,2) -> 0 | AY91: =ROUND(BC91*L30,2) -> 0 | AZ91: =ROUND(AZ92+AZ95,2) -> 0 | BA91: =ROUND(BA92+BA95,2) -> 53469.16 | BB91: =ROUND(BB92+BB95,2) -> 0 | BC91: =ROUND(BC92+BC95,2) -> 0 | BD91: =ROUND(BD92+BD95,2) -> 0 | BS91: D | BT91: 0 | BU91: ###NOIMPORT### | BV91: IMPORT | BW91: {04239680-ec12-47d7-9ffe-5b705b7e1d11} | BX91: {00000000-0000-0000-0000-000000000000}
D92: SO 101 | J92: SO 101 Rekonštrukcia a modernizácia cesty II/499 | AG92: 79855.99 | AN92: =AG92*1.2 -> 95827.188 | AQ92: STA | AS92: =ROUND(SUM(AS93:AS94),2) -> 0 | AT92: =ROUND(SUM(AV92:AW92),2) -> 8275.77 | AU92: =ROUND(SUM(AU93:AU94),5) -> 1304.1954 | AV92: =ROUND(AZ92*L29,2) -> 0 | AW92: =ROUND(BA92*L30,2) -> 8275.77 | AX92: =ROUND(BB92*L29,2) -> 0 | AY92: =ROUND(BC92*L30,2) -> 0 | AZ92: =ROUND(SUM(AZ93:AZ94),2) -> 0 | BA92: =ROUND(SUM(BA93:BA94),2) -> 41378.86 | BB92: =ROUND(SUM(BB93:BB94),2) -> 0 | BC92: =ROUND(SUM(BC93:BC94),2) -> 0 | BD92: =ROUND(SUM(BD93:BD94),2) -> 0 | BS92: D | BT92: 1 | BU92: ###NOIMPORT### | BV92: IMPORT | BW92: {481de41d-ecbe-4ad5-9164-d652a2a4eedb} | BX92: {04239680-ec12-47d7-9ffe-5b705b7e1d11} | CM92: 0
A93: / | E93: 01 nav. pr. 1 | K93: Výmena vozovky v km 2,5000 - 4,3716 | AG93: 30037.64 | AN93: =AG93*1.2 -> 36045.168 | AQ93: Časť | AS93: 0 | AT93: =ROUND(SUM(AV93:AW93),2) -> 5969.31 | AU93: ='01 nav. pr. 1 - Výmena vo...'!P131 -> 878.55041 | AV93: ='01 nav. pr. 1 - Výmena vo...'!J35 -> 0 | AW93: ='01 nav. pr. 1 - Výmena vo...'!J36 -> 5969.31 | AX93: ='01 nav. pr. 1 - Výmena vo...'!J37 -> 0 | AY93: ='01 nav. pr. 1 - Výmena vo...'!J38 -> 0 | AZ93: ='01 nav. pr. 1 - Výmena vo...'!F35 -> 0 | BA93: ='01 nav. pr. 1 - Výmena vo...'!F36 -> 29846.54 | BB93: ='01 nav. pr. 1 - Výmena vo...'!F37 -> 0 | BC93: ='01 nav. pr. 1 - Výmena vo...'!F38 -> 0 | BD93: ='01 nav. pr. 1 - Výmena vo...'!F39 -> 0 | BT93: 2 | BV93: IMPORT | BW93: {99dc300e-64a4-49f9-a18f-194bd44943d8} | BX93: {481de41d-ecbe-4ad5-9164-d652a2a4eedb}
A94: / | E94: 02 nav. pr. 1 | K94: Zvýšenie únosnosti podložia v km 3,6322 - 3,9000 vľavo | AG94: 49818.35 | AN94: =AG94*1.2 -> 59782.02 | AQ94: Časť | AS94: 0 | AT94: =ROUND(SUM(AV94:AW94),2) -> 2306.46 | AU94: ='02 nav. pr. 1 - Zvýšenie ...'!P126 -> 425.64497 | AV94: ='02 nav. pr. 1 - Zvýšenie ...'!J35 -> 0 | AW94: ='02 nav. pr. 1 - Zvýšenie ...'!J36 -> 2306.46 | AX94: ='02 nav. pr. 1 - Zvýšenie ...'!J37 -> 0 | AY94: ='02 nav. pr. 1 - Zvýšenie ...'!J38 -> 0 | AZ94: ='02 nav. pr. 1 - Zvýšenie ...'!F35 -> 0 | BA94: ='02 nav. pr. 1 - Zvýšenie ...'!F36 -> 11532.32 | BB94: ='02 nav. pr. 1 - Zvýšenie ...'!F37 -> 0 | BC94: ='02 nav. pr. 1 - Zvýšenie ...'!F38 -> 0 | BD94: ='02 nav. pr. 1 - Zvýšenie ...'!F39 -> 0 | BT94: 2 | BV94: IMPORT | BW94: {87727b83-0fd2-4bb7-9108-dddad7b8603c} | BX94: {481de41d-ecbe-4ad5-9164-d652a2a4eedb}
D95: SO 208 | J95: SO 208 - Gabiónový múr v km 3,050-3,125 cesty II/499 vpravo | AG95: 25529.01 | AN95: =AG95*1.2 -> 30634.812 | AQ95: STA | AS95: =ROUND(SUM(AS96:AS97),2) -> 0 | AT95: =ROUND(SUM(AV95:AW95),2) -> 2418.06 | AU95: =ROUND(SUM(AU96:AU97),5) -> 316.53017 | AV95: =ROUND(AZ95*L29,2) -> 0 | AW95: =ROUND(BA95*L30,2) -> 2418.06 | AX95: =ROUND(BB95*L29,2) -> 0 | AY95: =ROUND(BC95*L30,2) -> 0 | AZ95: =ROUND(SUM(AZ96:AZ97),2) -> 0 | BA95: =ROUND(SUM(BA96:BA97),2) -> 12090.3 | BB95: =ROUND(SUM(BB96:BB97),2) -> 0 | BC95: =ROUND(SUM(BC96:BC97),2) -> 0 | BD95: =ROUND(SUM(BD96:BD97),2) -> 0 | BS95: D | BT95: 1 | BU95: ###NOIMPORT### | BV95: IMPORT | BW95: {d3d38f57-cdc5-4489-b516-006d441ad6ec} | BX95: {04239680-ec12-47d7-9ffe-5b705b7e1d11} | CM95: 0
A96: / | E96: 01 nav. pr. 1 | K96: Zvýšenie únosnosti podložia | AG96: 17398.08 | AN96: =AG96*1.2 -> 20877.696 | AQ96: Časť | AS96: 0 | AT96: =ROUND(SUM(AV96:AW96),2) -> 791.87 | AU96: ='01 nav. pr. 1 - Zvýšenie ...'!P126 -> 142.47429 | AV96: ='01 nav. pr. 1 - Zvýšenie ...'!J35 -> 0 | AW96: ='01 nav. pr. 1 - Zvýšenie ...'!J36 -> 791.87 | AX96: ='01 nav. pr. 1 - Zvýšenie ...'!J37 -> 0 | AY96: ='01 nav. pr. 1 - Zvýšenie ...'!J38 -> 0 | AZ96: ='01 nav. pr. 1 - Zvýšenie ...'!F35 -> 0 | BA96: ='01 nav. pr. 1 - Zvýšenie ...'!F36 -> 3959.37 | BB96: ='01 nav. pr. 1 - Zvýšenie ...'!F37 -> 0 | BC96: ='01 nav. pr. 1 - Zvýšenie ...'!F38 -> 0 | BD96: ='01 nav. pr. 1 - Zvýšenie ...'!F39 -> 0 | BT96: 2 | BV96: IMPORT | BW96: {2d71651e-d198-484f-b671-7be27ed78c73} | BX96: {d3d38f57-cdc5-4489-b516-006d441ad6ec}
A97: / | E97: 02 nav. pr. 1 | K97: Predíženie múru v km 3,1250- | AG97: 8130.93 | AN97: =AG97*1.2 -> 9757.116 | AQ97: Časť | AS97: 0 | AT97: =ROUND(SUM(AV97:AW97),2) -> 1626.19 | AU97: ='02 nav. pr. 1 - Predíženi...'!P127 -> 174.05588 | AV97: ='02 nav. pr. 1 - Predíženi...'!J35 -> 0 | AW97: ='02 nav. pr. 1 - Predíženi...'!J36 -> 1626.19 | AX97: ='02 nav. pr. 1 - Predíženi...'!J37 -> 0 | AY97: ='02 nav. pr. 1 - Predíženi...'!J38 -> 0 | AZ97: ='02 nav. pr. 1 - Predíženi...'!F35 -> 0 | BA97: ='02 nav. pr. 1 - Predíženi...'!F36 -> 8130.93 | BB97: ='02 nav. pr. 1 - Predíženi...'!F37 -> 0 | BC97: ='02 nav. pr. 1 - Predíženi...'!F38 -> 0 | BD97: ='02 nav. pr. 1 - Predíženi...'!F39 -> 0 | BT97: 2 | BV97: IMPORT | BW97: {1e24f6ec-3d2e-4306-a1f4-67b6c8898d80} | BX97: {d3d38f57-cdc5-4489-b516-006d441ad6ec}

Sheet 01 nav. pr. 1 - Výmena vo...
L2: >> skryté stĺpce << | AP2: {99dc300e-64a4-49f9-a18f-194bd44943d8}
AP3: 0
D4: KRYCÍ LIST ROZPOČTU | M4: v --- nižšie sa nachádzajú doplnkové a pomocné údaje k zostavám --- v | AP4: False
D6: Stavba:
E7: ='Rekapitulácia stavby'!K6 -> Rekonštr.cesty II/499 Havran - naviac práce 1 (km 2,500-4,3716)
D8: Objekt:
E9: SO 101 - SO 101 Rekonštrukcia a modernizácia cesty II/499
D10: Časť:
E11: 01 nav. pr. 1 - Výmena vozovky v km 2,5000-4,3716
D13: JKSO: | I13: KS:
D14: Miesto: | I14: Dátum: | J14: ='Rekapitulácia stavby'!AN8 -> 0
D16: Objednávateľ: | I16: IČO: | J16: 37836901
E17: Trnavský samosprávny kraj | I17: IČ DPH:
D19: Zhotoviteľ: | I19: IČO: | J19: 00896225
E20: Swietelsky-Slovakia spol. s r.o. | I20: IČ DPH: | J20: SK2020294144
D22: Projektant: | I22: IČO: | J22: =IF('Rekapitulácia stavby'!AN16="","",'Rekapitulácia stavby'!AN16)
E23: =IF('Rekapitulácia stavby'!E17="","",'Rekapitulácia stavby'!E17) | I23: IČ DPH: | J23: =IF('Rekapitulácia stavby'!AN17="","",'Rekapitulácia stavby'!AN17)
D25: Spracovateľ: | I25: IČO: | J25: =IF('Rekapitulácia stavby'!AN19="","",'Rekapitulácia stavby'!AN19)
E26: =IF('Rekapitulácia stavby'!E20="","",'Rekapitulácia stavby'!E20) | I26: IČ DPH: | J26: =IF('Rekapitulácia stavby'!AN20="","",'Rekapitulácia stavby'!AN20)
D28: Poznámka:
D32: Cena bez DPH | J32: =ROUND(J131, 2) -> 30037.64
F34: Základ dane | I34: Sadzba dane | J34: Výška dane
D35: DPH | E35: základná | F35: =ROUND((SUM(BA131:BA250)), 2) -> 0 | I35: 0.2 | J35: =ROUND(((SUM(BA131:BA250))*I35), 2) -> 0
E36: znížená | F36: =ROUND((SUM(BB131:BB250)), 2) -> 29846.54 | I36: 0.2 | J36: =ROUND(((SUM(BB131:BB250))*I36), 2) -> 5969.31
E37: zákl. prenesená | F37: =ROUND((SUM(BC131:BC250)), 2) -> 0 | I37: 0.2 | J37: =0 -> 0
E38: zníž. prenesená | F38: =ROUND((SUM(BD131:BD250)), 2) -> 0 | I38: 0.2 | J38: =0 -> 0
E39: nulová | F39: =ROUND((SUM(BE131:BE250)), 2) -> 0 | I39: 0 | J39: =0 -> 0
D41: Cena s DPH | G41: v | H41: EUR | J41: =SUM(J32:J39) -> 36006.95
D50: Projektant | G50: Spracovateľ
D61: Dátum a podpis: | F61: Pečiatka | G61: Dátum a podpis: | J61: Pečiatka
D65: Objednávateľ | G65: Zhotoviteľ
D76: Dátum a podpis: | F76: Pečiatka | G76: Dátum a podpis: | J76: Pečiatka
C82: REKAPITULÁCIA ROZPOČTU
C84: Stavba:
E85: =E7 -> Rekonštr.cesty II/499 Havran - naviac práce 1 (km 2,500-4,3716)
C86: Objekt:
E87: SO 101 - SO 101 Rekonštrukcia a modernizácia cesty II/499
C88: Časť:
E89: =E11 -> 01 nav. pr. 1 - Výmena vozovky v km 2,5000-4,3716
C91: Miesto: | F91: =F14 | I91: Dátum: | J91: =IF(J14="","",J14) -> 0
C93: Objednávateľ: | F93: =E17 -> Trnavský samosprávny kraj | I93: Projektant: | J93: =E23
C94: Zhotoviteľ: | F94: =IF(E20="","",E20) -> Swietelsky-Slovakia spol. s r.o. | I94: Spracovateľ: | J94: =E26
C96: Kód dielu - Popis | J96: Cena celkom [EUR]
C98: Náklady z rozpočtu | J98: =J131 -> 30037.64 | AQ98: -1
D99: HSV - Práce a dodávky HSV | J99: =J132 -> 30037.64
D100: 1 - Zemné práce | J100: =J133 -> 9795.74
D101: 2 - Zakladanie | J101: =J163 -> 0
D102: 3 - Zvislé a kompletné konštrukcie | J102: =J166 -> 0
D103: 4 - Vodorovné konštrukcie | J103: =J170 -> 0
D104: 5 - Komunikácie | J104: =J175 -> 14868
D105: 8 - Rúrové vedenie | J105: =J192 -> 0
D106: 9 - Ostatné konštrukcie a práce-búranie | J106: =J200 -> 5105.92
D107: 99 - Presun hmôt HSV | J107: =J244 -> 267.98
D108: M - Práce a dodávky M | J108: =J246 -> 0
D109: 22-M - Montáže oznam. a zabezp. zariadení | J109: =J247 -> 0
C116: ROZPOČET
C118: Stavba:
E119: =E7 -> Rekonštr.cesty II/499 Havran - naviac práce 1 (km 2,500-4,3716)
C120: Objekt:
E121: SO 101 - SO 101 Rekonštrukcia a modernizácia cesty II/499
C122: Časť:
E123: =E11 -> 01 nav. pr. 1 - Výmena vozovky v km 2,5000-4,3716
C125: Miesto: | F125: =F14 | I125: Dátum:
C127: Objednávateľ: | F127: =E17 -> Trnavský samosprávny kraj | I127: Projektant: | J127: =E23
C128: Zhotoviteľ: | F128: =IF(E20="","",E20) -> Swietelsky-Slovakia spol. s r.o. | I128: Spracovateľ: | J128: =E26
C130: PČ | D130: Typ | E130: Kód | F130: Popis | G130: MJ | H130: Množstvo | I130: J.cena [EUR] | J130: Cena celkom [EUR] | K130: Cenová sústava | N130: DPH | O130: J. Nh [h] | P130: Nh celkom [h] | Q130: J. hmotnosť [t] | R130: Hmotnosť celkom [t] | S130: J. suť [t] | T130: Suť Celkom [t]
C131: Náklady z rozpočtu | J131: =BG131 -> 30037.64 | P131: =P132+P246 -> 878.55041 | R131: =R132+R246 -> 924.48682 | T131: =T132+T246 -> 678.3 | AP131: D | AQ131: -1 | BG131: =BG132+BG246 -> 30037.64
D132: D | E132: HSV | F132: Práce a dodávky HSV | J132: =BG132 -> 30037.64 | P132: =P133+P163+P166+P170+P175+P192+P200+P244 -> 878.55041 | R132: =R133+R163+R166+R170+R175+R192+R200+R244 -> 924.48682 | T132: =T133+T163+T166+T170+T175+T192+T200+T244 -> 678.3 | AN132: 1 | AP132: D | AQ132: 0 | AU132: ROZPOCET | BG132: =BG133+BG163+BG166+BG170+BG175+BG192+BG200+BG244 -> 30037.64
D133: D | E133: 1 | F133: Zemné práce | J133: =BG133 -> 9795.74 | P133: =SUM(P134:P162) -> 425.07533 | R133: =SUM(R134:R162) -> 393.10345 | T133: =SUM(T134:T162) -> 678.3 | AN133: 1 | AP133: D | AQ133: 1 | AU133: ROZPOCET | BG133: =SUM(BG134:BG162) -> 9795.74
C134: 1 | D134: K | E134: 113106614 | F134: Rozoberanie maloformátovej zámkovej dlažby v ploche nad 20 m2, -0,26000t | G134: m2 | H134: 0 | I134: 1.19 | J134: =ROUND(I134*H134,2) -> 0 | N134: znížená | O134: 0.128 | P134: =O134*H134 -> 0 | Q134: 0 | R134: =Q134*H134 -> 0 | S134: 0.26 | T134: =S134*H134 -> 0 | AN134: 4 | AP134: K | AQ134: 2 | AU134: ROZPOCET | BA134: =IF(N134="základná",J134,0) -> 0 | BB134: =IF(N134="znížená",J134,0) -> 0 | BC134: =IF(N134="zákl. prenesená",J134,0) -> 0 | BD134: =IF(N134="zníž. prenesená",J134,0) -> 0 | BE134: =IF(N134="nulová",J134,0) -> 0 | BF134: 2 | BG134: =ROUND(I134*H134,2) -> 0 | BH134: 4 | BI134: 2
C135: 2 | D135: K | E135: 113107131 | F135: Odstránenie krytu v ploche do 200 m2 z betónu prostého, hr. vrstvy do 150 mm, -0,22500t | G135: m2 | H135: 0 | I135: 7.94 | J135: =ROUND(I135*H135,2) -> 0 | N135: znížená | O135: 1.169 | P135: =O135*H135 -> 0 | Q135: 0 | R135: =Q135*H135 -> 0 | S135: 0.225 | T135: =S135*H135 -> 0 | AN135: 4 | AP135: K | AQ135: 2 | AU135: ROZPOCET | BA135: =IF(N135="základná",J135,0) -> 0 | BB135: =IF(N135="znížená",J135,0) -> 0 | BC135: =IF(N135="zákl. prenesená",J135,0) -> 0 | BD135: =IF(N135="zníž. prenesená",J135,0) -> 0 | BE135: =IF(N135="nulová",J135,0) -> 0 | BF135: 2 | BG135: =ROUND(I135*H135,2) -> 0 | BH135: 4 | BI135: 4
C136: 3 | D136: K | E136: 113107223 | F136: Odstránenie krytu v ploche nad 200 m2 z kameniva hrubého drveného, hr. 200 do 300 m, -0,40000t | G136: m2 | H136: 798 | I136: 1.11 | J136: =ROUND(I136*H136,2) -> 885.78 | N136: znížená | O136: 0.113 | P136: =O136*H136 -> 90.174 | Q136: 0 | R136: =Q136*H136 -> 0 | S136: 0.4 | T136: =S136*H136 -> 319.2 | AN136: 4 | AP136: K | AQ136: 2 | AU136: ROZPOCET | BA136: =IF(N136="základná",J136,0) -> 0 | BB136: =IF(N136="znížená",J136,0) -> 885.78 | BC136: =IF(N136="zákl. prenesená",J136,0) -> 0 | BD136: =IF(N136="zníž. prenesená",J136,0) -> 0 | BE136: =IF(N136="nulová",J136,0) -> 0 | BF136: 2 | BG136: =ROUND(I136*H136,2) -> 885.78 | BH136: 4 | BI136: 6
C137: 4 | D137: K | E137: 113107244 | F137: Odstránenie krytu asfaltového, v ploche nad 200 m2,hr. nad 150 do 200 mm, -0,45000t | G137: m2 | H137: 798 | I137: 3 | J137: =ROUND(I137*H137,2) -> 2394 | N137: znížená | O137: 0.22 | P137: =O137*H137 -> 175.56 | Q137: 0 | R137: =Q137*H137 -> 0 | S137: 0.45 | T137: =S137*H137 -> 359.1 | AN137: 4 | AP137: K | AQ137: 2 | AU137: ROZPOCET | BA137: =IF(N137="základná",J137,0) -> 0 | BB137: =IF(N137="znížená",J137,0) -> 2394 | BC137: =IF(N137="zákl. prenesená",J137,0) -> 0 | BD137: =IF(N137="zníž. prenesená",J137,0) -> 0 | BE137: =IF(N137="nulová",J137,0) -> 0 | BF137: 2 | BG137: =ROUND(I137*H137,2) -> 2394 | BH137: 4 | BI137: 8
C138: 5 | D138: K | E138: 113152731 | F138: Frézovanie asf. podkladu alebo krytu bez prek., hr. 50 mm 0,127 t | G138: m2 | H138: 0 | I138: 0.66 | J138: =ROUND(I138*H138,2) -> 0 | N138: znížená | O138: 0.012 | P138: =O138*H138 -> 0 | Q138: 0 | R138: =Q138*H138 -> 0 | S138: 0.127 | T138: =S138*H138 -> 0 | AN138: 4 | AP138: K | AQ138: 2 | AU138: ROZPOCET | BA138: =IF(N138="základná",J138,0) -> 0 | BB138: =IF(N138="znížená",J138,0) -> 0 | BC138: =IF(N138="zákl. prenesená",J138,0) -> 0 | BD138: =IF(N138="zníž. prenesená",J138,0) -> 0 | BE138: =IF(N138="nulová",J138,0) -> 0 | BF138: 2 | BG138: =ROUND(I138*H138,2) -> 0 | BH138: 4 | BI138: 10
C139: 6 | D139: K | E139: 113153321 | F139: Frézovanie asf. podkladu alebo krytu s prek., plochy cez 1000 do 10000 m2, hr. 100 mm 0,254 t | G139: m2 | H139: 0 | I139: 2.1 | J139: =ROUND(I139*H139,2) -> 0 | N139: znížená | O139: 0.045 | P139: =O139*H139 -> 0 | Q139: 0 | R139: =Q139*H139 -> 0 | S139: 0.254 | T139: =S139*H139 -> 0 | AN139: 4 | AP139: K | AQ139: 2 | AU139: ROZPOCET | BA139: =IF(N139="základná",J139,0) -> 0 | BB139: =IF(N139="znížená",J139,0) -> 0 | BC139: =IF(N139="zákl. prenesená",J139,0) -> 0 | BD139: =IF(N139="zníž. prenesená",J139,0) -> 0 | BE139: =IF(N139="nulová",J139,0) -> 0 | BF139: 2 | BG139: =ROUND(I139*H139,2) -> 0 | BH139: 4 | BI139: 12
C140: 7 | D140: K | E140: 113307232 | F140: Odstránenie podkladu v ploche nad 200 m2 z betónu prostého, hr. vrstvy nad 150 do 300 mm, -0,50000t | G140: m2 | H140: 0 | I140: 5.01 | J140: =ROUND(I140*H140,2) -> 0 | N140: znížená | O140: 0.1867 | P140: =O140*H140 -> 0 | Q140: 0 | R140: =Q140*H140 -> 0 | S140: 0.5 | T140: =S140*H140 -> 0 | AN140: 4 | AP140: K | AQ140: 2 | AU140: ROZPOCET | BA140: =IF(N140="základná",J140,0) -> 0 | BB140: =IF(N140="znížená",J140,0) -> 0 | BC140: =IF(N140="zákl. prenesená",J140,0) -> 0 | BD140: =IF(N140="zníž. prenesená",J140,0) -> 0 | BE140: =IF(N140="nulová",J140,0) -> 0 | BF140: 2 | BG140: =ROUND(I140*H140,2) -> 0 | BH140: 4 | BI140: 14
C141: 8 | D141: K | E141: 122202203 | F141: Odkopávka a prekopávka nezapažená pre cesty, v hornine 3 od 1000 do 10000m3 | G141: m3 | H141: 274.79339 | I141: 2.02 | J141: =ROUND(I141*H141,2) -> 555.08 | N141: znížená | O141: 0.108 | P141: =O141*H141 -> 29.677686 | Q141: 0 | R141: =Q141*H141 -> 0 | S141: 0 | T141: =S141*H141 -> 0 | AN141: 4 | AP141: K | AQ141: 2 | AU141: ROZPOCET | BA141: =IF(N141="základná",J141,0) -> 0 | BB141: =IF(N141="znížená",J141,0) -> 555.08 | BC141: =IF(N141="zákl. prenesená",J141,0) -> 0 | BD141: =IF(N141="zníž. prenesená",J141,0) -> 0 | BE141: =IF(N141="nulová",J141,0) -> 0 | BF141: 2 | BG141: =ROUND(I141*H141,2) -> 555.08 | BH141: 4 | BI141: 16
AP142: VV | AQ142: 2 | AR142: 2 | AS142: True | AT142: 1 | AU142: ROZPOCET
C143: 9 | D143: K | E143: 122202209 | F143: Odkopávky a prekopávky nezapažené pre cesty. Príplatok za lepivosť horniny 3 | G143: m3 | H143: 82.438017 | I143: 0.84 | J143: =ROUND(I143*H143,2) -> 69.25 | N143: znížená | O143: 0.077 | P143: =O143*H143 -> 6.3477273 | Q143: 0 | R143: =Q143*H143 -> 0 | S143: 0 | T143: =S143*H143 -> 0 | AN143: 4 | AP143: K | AQ143: 2 | AU143: ROZPOCET | BA143: =IF(N143="základná",J143,0) -> 0 | BB143: =IF(N143="znížená",J143,0) -> 69.25 | BC143: =IF(N143="zákl. prenesená",J143,0) -> 0 | BD143: =IF(N143="zníž. prenesená",J143,0) -> 0 | BE143: =IF(N143="nulová",J143,0) -> 0 | BF143: 2 | BG143: =ROUND(I143*H143,2) -> 69.25 | BH143: 4 | BI143: 18
C144: 10 | D144: K | E144: 132201102 | F144: Výkop ryhy do šírky 600 mm v horn.3 nad 100 m3 | G144: m3 | H144: 0 | I144: 5.5 | J144: =ROUND(I144*H144,2) -> 0 | N144: znížená | O144: 1.301 | P144: =O144*H144 -> 0 | Q144: 0 | R144: =Q144*H144 -> 0 | S144: 0 | T144: =S144*H144 -> 0 | AN144: 4 | AP144: K | AQ144: 2 | AU144: ROZPOCET | BA144: =IF(N144="základná",J144,0) -> 0 | BB144: =IF(N144="znížená",J144,0) -> 0 | BC144: =IF(N144="zákl. prenesená",J144,0) -> 0 | BD144: =IF(N144="zníž. prenesená",J144,0) -> 0 | BE144: =IF(N144="nulová",J144,0) -> 0 | BF144: 2 | BG144: =ROUND(I144*H144,2) -> 0 | BH144: 4 | BI144: 20
C145: 11 | D145: K | E145: 132201109 | F145: Príplatok k cene za lepivosť pri hĺbení rýh šírky do 600 mm zapažených i nezapažených s urovnaním dna v hornine 3 | G145: m3 | H145: 0 | I145: 6.69 | J145: =ROUND(I145*H145,2) -> 0 | N145: znížená | O145: 0.613 | P145: =O145*H145 -> 0 | Q145: 0 | R145: =Q145*H145 -> 0 | S145: 0 | T145: =S145*H145 -> 0 | AN145: 4 | AP145: K | AQ145: 2 | AU145: ROZPOCET | BA145: =IF(N145="základná",J145,0) -> 0 | BB145: =IF(N145="znížená",J145,0) -> 0 | BC145: =IF(N145="zákl. prenesená",J145,0) -> 0 | BD145: =IF(N145="zníž. prenesená",J145,0) -> 0 | BE145: =IF(N145="nulová",J145,0) -> 0 | BF145: 2 | BG145: =ROUND(I145*H145,2) -> 0 | BH145: 4 | BI145: 22
C146: 12 | D146: K | E146: 132201202 | F146: Výkop ryhy šírky 600-2000mm horn.3 od 100 do 1000 m3 | G146: m3 | H146: 0 | I146: 8.26 | J146: =ROUND(I146*H146,2) -> 0 | N146: znížená | O146: 0.811 | P146: =O146*H146 -> 0 | Q146: 0 | R146: =Q146*H146 -> 0 | S146: 0 | T146: =S146*H146 -> 0 | AN146: 4 | AP146: K | AQ146: 2 | AU146: ROZPOCET | BA146: =IF(N146="základná",J146,0) -> 0 | BB146: =IF(N146="znížená",J146,0) -> 0 | BC146: =IF(N146="zákl. prenesená",J146,0) -> 0 | BD146: =IF(N146="zníž. prenesená",J146,0) -> 0 | BE146: =IF(N146="nulová",J146,0) -> 0 | BF146: 2 | BG146: =ROUND(I146*H146,2) -> 0 | BH146: 4 | BI146: 24
C147: 13 | D147: K | E147: 132201209 | F147: Príplatok k cenám za lepivosť pri hĺbení rýh š. nad 600 do 2 000 mm zapaž. i nezapažených, s urovnaním dna v hornine 3 | G147: m3 | H147: 0 | I147: 0.82 | J147: =ROUND(I147*H147,2) -> 0 | N147: znížená | O147: 0.08 | P147: =O147*H147 -> 0 | Q147: 0 | R147: =Q147*H147 -> 0 | S147: 0 | T147: =S147*H147 -> 0 | AN147: 4 | AP147: K | AQ147: 2 | AU147: ROZPOCET | BA147: =IF(N147="základná",J147,0) -> 0 | BB147: =IF(N147="znížená",J147,0) -> 0 | BC147: =IF(N147="zákl. prenesená",J147,0) -> 0 | BD147: =IF(N147="zníž. prenesená",J147,0) -> 0 | BE147: =IF(N147="nulová",J147,0) -> 0 | BF147: 2 | BG147: =ROUND(I147*H147,2) -> 0 | BH147: 4 | BI147: 26
C148: 14 | D148: K | E148: 133201101 | F148: Výkop šachty zapaženej, hornina 3 do 100 m3 | G148: m3 | H148: 0 | I148: 36.08 | J148: =ROUND(I148*H148,2) -> 0 | N148: znížená | O148: 2.961 | P148: =O148*H148 -> 0 | Q148: 0 | R148: =Q148*H148 -> 0 | S148: 0 | T148: =S148*H148 -> 0 | AN148: 4 | AP148: K | AQ148: 2 | AU148: ROZPOCET | BA148: =IF(N148="základná",J148,0) -> 0 | BB148: =IF(N148="znížená",J148,0) -> 0 | BC148: =IF(N148="zákl. prenesená",J148,0) -> 0 | BD148: =IF(N148="zníž. prenesená",J148,0) -> 0 | BE148: =IF(N148="nulová",J148,0) -> 0 | BF148: 2 | BG148: =ROUND(I148*H148,2) -> 0 | BH148: 4 | BI148: 28
C149: 15 | D149: K | E149: 133201109 | F149: Príplatok k cenám za lepivosť pri hĺbení šachiet zapažených i nezapažených v hornine 3 | G149: m3 | H149: 0 | I149: 4.91 | J149: =ROUND(I149*H149,2) -> 0 | N149: znížená | O149: 0.447 | P149: =O149*H149 -> 0 | Q149: 0 | R149: =Q149*H149 -> 0 | S149: 0 | T149: =S149*H149 -> 0 | AN149: 4 | AP149: K | AQ149: 2 | AU149: ROZPOCET | BA149: =IF(N149="základná",J149,0) -> 0 | BB149: =IF(N149="znížená",J149,0) -> 0 | BC149: =IF(N149="zákl. prenesená",J149,0) -> 0 | BD149: =IF(N149="zníž. prenesená",J149,0) -> 0 | BE149: =IF(N149="nulová",J149,0) -> 0 | BF149: 2 | BG149: =ROUND(I149*H149,2) -> 0 | BH149: 4 | BI149: 30
C150: 16 | D150: K | E150: 162501102 | F150: Vodorovné premiestnenie výkopku po spevnenej ceste z horniny tr.1-4, do 100 m3 na vzdialenosť do 3000 m | G150: m3 | H150: 274.79339 | I150: 3 | J150: =ROUND(I150*H150,2) -> 824.38 | N150: znížená | O150: 0.071 | P150: =O150*H150 -> 19.510331 | Q150: 0 | R150: =Q150*H150 -> 0 | S150: 0 | T150: =S150*H150 -> 0 | AN150: 4 | AP150: K | AQ150: 2 | AU150: ROZPOCET | BA150: =IF(N150="základná",J150,0) -> 0 | BB150: =IF(N150="znížená",J150,0) -> 824.38 | BC150: =IF(N150="zákl. prenesená",J150,0) -> 0 | BD150: =IF(N150="zníž. prenesená",J150,0) -> 0 | BE150: =IF(N150="nulová",J150,0) -> 0 | BF150: 2 | BG150: =ROUND(I150*H150,2) -> 824.38 | BH150: 4 | BI150: 32
C151: 17 | D151: K | E151: 162501105 | F151: Vodorovné premiestnenie výkopku po spevnenej ceste z horniny tr.1-4, do 100 m3, príplatok k cene za každých ďalšich a začatých 1000 m | G151: m3 | H151: 1923.18 | I151: 0.4 | J151: =ROUND(I151*H151,2) -> 769.27 | N151: znížená | O151: 0.007 | P151: =O151*H151 -> 13.46226 | Q151: 0 | R151: =Q151*H151 -> 0 | S151: 0 | T151: =S151*H151 -> 0 | AN151: 4 | AP151: K | AQ151: 2 | AU151: ROZPOCET | BA151: =IF(N151="základná",J151,0) -> 0 | BB151: =IF(N151="znížená",J151,0) -> 769.27 | BC151: =IF(N151="zákl. prenesená",J151,0) -> 0 | BD151: =IF(N151="zníž. prenesená",J151,0) -> 0 | BE151: =IF(N151="nulová",J151,0) -> 0 | BF151: 2 | BG151: =ROUND(I151*H151,2) -> 769.27 | BH151: 4 | BI151: 34
C152: 18 | D152: K | E152: 171101111 | F152: Uloženie sypaniny do násypu nesúdržnej horníny v aktívnej zóne | G152: m3 | H152: 0 | I152: 3 | J152: =ROUND(I152*H152,2) -> 0 | N152: znížená | O152: 0.116 | P152: =O152*H152 -> 0 | Q152: 0 | R152: =Q152*H152 -> 0 | S152: 0 | T152: =S152*H152 -> 0 | AN152: 4 | AP152: K | AQ152: 2 | AU152: ROZPOCET | BA152: =IF(N152="základná",J152,0) -> 0 | BB152: =IF(N152="znížená",J152,0) -> 0 | BC152: =IF(N152="zákl. prenesená",J152,0) -> 0 | BD152: =IF(N152="zníž. prenesená",J152,0) -> 0 | BE152: =IF(N152="nulová",J152,0) -> 0 | BF152: 2 | BG152: =ROUND(I152*H152,2) -> 0 | BH152: 4 | BI152: 36
C153: 19 | D153: M | E153: 5834522701 | F153: Štrkodrva frakcia 0-32 | G153: t | H153: 393.10345 | I153: 6.5 | J153: =ROUND(I153*H153,2) -> 2555.17 | N153: znížená | O153: 0 | P153: =O153*H153 -> 0 | Q153: 1 | R153: =Q153*H153 -> 393.10345 | S153: 0 | T153: =S153*H153 -> 0 | AN153: 8 | AP153: M | AQ153: 2 | AU153: ROZPOCET | BA153: =IF(N153="základná",J153,0) -> 0 | BB153: =IF(N153="znížená",J153,0) -> 2555.17 | BC153: =IF(N153="zákl. prenesená",J153,0) -> 0 | BD153: =IF(N153="zníž. prenesená",J153,0) -> 0 | BE153: =IF(N153="nulová",J153,0) -> 0 | BF153: 2 | BG153: =ROUND(I153*H153,2) -> 2555.17 | BH153: 4 | BI153: 38
AP154: VV | AQ154: 2 | AR154: 2 | AS154: True | AT154: 1 | AU154: ROZPOCET
C155: 20 | D155: K | E155: 171101141 | F155: Uloženie akýchkoľvek hornín do násypu na cesty alebo železnice do 0.75 m3 | G155: m3 | H155: 183.53266 | I155: 4.67 | J155: =ROUND(I155*H155,2) -> 857.1 | N155: znížená | O155: 0.298 | P155: =O155*H155 -> 54.692732 | Q155: 0 | R155: =Q155*H155 -> 0 | S155: 0 | T155: =S155*H155 -> 0 | AN155: 4 | AP155: K | AQ155: 2 | AU155: ROZPOCET | BA155: =IF(N155="základná",J155,0) -> 0 | BB155: =IF(N155="znížená",J155,0) -> 857.1 | BC155: =IF(N155="zákl. prenesená",J155,0) -> 0 | BD155: =IF(N155="zníž. prenesená",J155,0) -> 0 | BE155: =IF(N155="nulová",J155,0) -> 0 | BF155: 2 | BG155: =ROUND(I155*H155,2) -> 857.1 | BH155: 4 | BI155: 40
AP156: VV | AQ156: 2 | AR156: 2 | AS156: True | AT156: 1 | AU156: ROZPOCET
C157: 21 | D157: K | E157: 171201101 | F157: Uloženie sypaniny do násypov s rozprestretím sypaniny vo vrstvách a s hrubým urovnaním nezhutnených | G157: m3 | H157: 274.79339 | I157: 0.9 | J157: =ROUND(I157*H157,2) -> 247.31 | N157: znížená | O157: 0.031 | P157: =O157*H157 -> 8.518595 | Q157: 0 | R157: =Q157*H157 -> 0 | S157: 0 | T157: =S157*H157 -> 0 | AN157: 4 | AP157: K | AQ157: 2 | AU157: ROZPOCET | BA157: =IF(N157="základná",J157,0) -> 0 | BB157: =IF(N157="znížená",J157,0) -> 247.31 | BC157: =IF(N157="zákl. prenesená",J157,0) -> 0 | BD157: =IF(N157="zníž. prenesená",J157,0) -> 0 | BE157: =IF(N157="nulová",J157,0) -> 0 | BF157: 2 | BG157: =ROUND(I157*H157,2) -> 247.31 | BH157: 4 | BI157: 42
C158: 22 | D158: K | E158: 1712090012 | F158: Poplatok za skladovanie - zemina | G158: t | H158: 0 | I158: 0.01 | J158: =ROUND(I158*H158,2) -> 0 | N158: znížená | O158: 0 | P158: =O158*H158 -> 0 | Q158: 0 | R158: =Q158*H158 -> 0 | S158: 0 | T158: =S158*H158 -> 0 | AN158: 4 | AP158: K | AQ158: 2 | AU158: ROZPOCET | BA158: =IF(N158="základná",J158,0) -> 0 | BB158: =IF(N158="znížená",J158,0) -> 0 | BC158: =IF(N158="zákl. prenesená",J158,0) -> 0 | BD158: =IF(N158="zníž. prenesená",J158,0) -> 0 | BE158: =IF(N158="nulová",J158,0) -> 0 | BF158: 2 | BG158: =ROUND(I158*H158,2) -> 0 | BH158: 4 | BI158: 44
C159: 23 | D159: K | E159: 174101001 | F159: Zásyp sypaninou so zhutnením jám, šachiet, rýh, zárezov alebo okolo objektov do 100 m3 | G159: m3 | H159: 0 | I159: 3.17 | J159: =ROUND(I159*H159,2) -> 0 | N159: znížená | O159: 0.242 | P159: =O159*H159 -> 0 | Q159: 0 | R159: =Q159*H159 -> 0 | S159: 0 | T159: =S159*H159 -> 0 | AN159: 4 | AP159: K | AQ159: 2 | AU159: ROZPOCET | BA159: =IF(N159="základná",J159,0) -> 0 | BB159: =IF(N159="znížená",J159,0) -> 0 | BC159: =IF(N159="zákl. prenesená",J159,0) -> 0 | BD159: =IF(N159="zníž. prenesená",J159,0) -> 0 | BE159: =IF(N159="nulová",J159,0) -> 0 | BF159: 2 | BG159: =ROUND(I159*H159,2) -> 0 | BH159: 4 | BI159: 46
C160: 24 | D160: K | E160: 175101101 | F160: Obsyp potrubia sypaninou z vhodných hornín 1 až 4 bez prehodenia sypaniny | G160: m3 | H160: 0 | I160: 13.96 | J160: =ROUND(I160*H160,2) -> 0 | N160: znížená | O160: 1.501 | P160: =O160*H160 -> 0 | Q160: 0 | R160: =Q160*H160 -> 0 | S160: 0 | T160: =S160*H160 -> 0 | AN160: 4 | AP160: K | AQ160: 2 | AU160: ROZPOCET | BA160: =IF(N160="základná",J160,0) -> 0 | BB160: =IF(N160="znížená",J160,0) -> 0 | BC160: =IF(N160="zákl. prenesená",J160,0) -> 0 | BD160: =IF(N160="zníž. prenesená",J160,0) -> 0 | BE160: =IF(N160="nulová",J160,0) -> 0 | BF160: 2 | BG160: =ROUND(I160*H160,2) -> 0 | BH160: 4 | BI160: 48
C161: 25 | D161: M | E161: 583310003100 | F161: Štrkopiesok frakcia 0-22 mm, STN EN 13242 + A1 | G161: t | H161: 0 | I161: 9.72 | J161: =ROUND(I161*H161,2) -> 0 | N161: znížená | O161: 0 | P161: =O161*H161 -> 0 | Q161: 1 | R161: =Q161*H161 -> 0 | S161: 0 | T161: =S161*H161 -> 0 | AN161: 8 | AP161: M | AQ161: 2 | AU161: ROZPOCET | BA161: =IF(N161="základná",J161,0) -> 0 | BB161: =IF(N161="znížená",J161,0) -> 0 | BC161: =IF(N161="zákl. prenesená",J161,0) -> 0 | BD161: =IF(N161="zníž. prenesená",J161,0) -> 0 | BE161: =IF(N161="nulová",J161,0) -> 0 | BF161: 2 | BG161: =ROUND(I161*H161,2) -> 0 | BH161: 4 | BI161: 50
C162: 26 | D162: K | E162: 181101102 | F162: Úprava pláne v zárezoch v hornine 1-4 so zhutnením /514x2/ | G162: m2 | H162: 1596 | I162: 0.4 | J162: =ROUND(I162*H162,2) -> 638.4 | N162: znížená | O162: 0.017 | P162: =O162*H162 -> 27.132 | Q162: 0 | R162: =Q162*H162 -> 0 | S162: 0 | T162: =S162*H162 -> 0 | AN162: 4 | AP162: K | AQ162: 2 | AU162: ROZPOCET | BA162: =IF(N162="základná",J162,0) -> 0 | BB162: =IF(N162="znížená",J162,0) -> 638.4 | BC162: =IF(N162="zákl. prenesená",J162,0) -> 0 | BD162: =IF(N162="zníž. prenesená",J162,0) -> 0 | BE162: =IF(N162="nulová",J162,0) -> 0 | BF162: 2 | BG162: =ROUND(I162*H162,2) -> 638.4 | BH162: 4 | BI162: 52
D163: D | E163: 2 | F163: Zakladanie | J163: =BG163 -> 0 | P163: =SUM(P164:P165) -> 0 | R163: =SUM(R164:R165) -> 0 | T163: =SUM(T164:T165) -> 0 | AN163: 1 | AP163: D | AQ163: 1 | AU163: ROZPOCET | BG163: =SUM(BG164:BG165) -> 0
C164: 27 | D164: K | E164: 211521113 | F164: Výplň odvodňovacieho rebra alebo trativodu do rýh kamenivom hrubým drveným frakcie 0- 63 | G164: m3 | H164: 0 | I164: 11.09 | J164: =ROUND(I164*H164,2) -> 0 | N164: znížená | O164: 0.908 | P164: =O164*H164 -> 0 | Q164: 1.63 | R164: =Q164*H164 -> 0 | S164: 0 | T164: =S164*H164 -> 0 | AN164: 4 | AP164: K | AQ164: 2 | AU164: ROZPOCET | BA164: =IF(N164="základná",J164,0) -> 0 | BB164: =IF(N164="znížená",J164,0) -> 0 | BC164: =IF(N164="zákl. prenesená",J164,0) -> 0 | BD164: =IF(N164="zníž. prenesená",J164,0) -> 0 | BE164: =IF(N164="nulová",J164,0) -> 0 | BF164: 2 | BG164: =ROUND(I164*H164,2) -> 0 | BH164: 4 | BI164: 54
...

Sheet 02 nav. pr. 1 - Zvýšenie ...
L2: >> skryté stĺpce << | AT2: {87727b83-0fd2-4bb7-9108-dddad7b8603c}
AT3: 0
D4: KRYCÍ LIST ROZPOČTU | M4: v --- nižšie sa nachádzajú doplnkové a pomocné údaje k zostavám --- v | AT4: False
D6: Stavba:
E7: ='Rekapitulácia stavby'!K6 -> Rekonštr.cesty II/499 Havran - naviac práce 1 (km 2,500-4,3716)
D8: Objekt:
E9: SO 101 - SO 101 Rekonštrukcia a modernizácia cesty II/499
D10: Časť:
E11: 02 nav. pr. 1 - Zvýšenie únosnosti podložia v km 3,6322-3,9000 vľavo
D13: JKSO: | I13: KS:
D14: Miesto: | I14: Dátum: | J14: ='Rekapitulácia stavby'!AN8 -> 0
D16: Objednávateľ: | I16: IČO: | J16: 37836901
E17: Trnavský samosprávny kraj | I17: IČ DPH:
D19: Zhotoviteľ: | I19: IČO: | J19: 00896225
E20: Swietelsky-Slovakia spol. s r.o. | I20: IČ DPH: | J20: SK2020294144
D22: Projektant: | I22: IČO: | J22: =IF('Rekapitulácia stavby'!AN16="","",'Rekapitulácia stavby'!AN16)
E23: =IF('Rekapitulácia stavby'!E17="","",'Rekapitulácia stavby'!E17) | I23: IČ DPH: | J23: =IF('Rekapitulácia stavby'!AN17="","",'Rekapitulácia stavby'!AN17)
D25: Spracovateľ: | I25: IČO: | J25: =IF('Rekapitulácia stavby'!AN19="","",'Rekapitulácia stavby'!AN19)
E26: =IF('Rekapitulácia stavby'!E20="","",'Rekapitulácia stavby'!E20) | I26: IČ DPH: | J26: =IF('Rekapitulácia stavby'!AN20="","",'Rekapitulácia stavby'!AN20)
D28: Poznámka:
E29: Zvýšenie únosnosti
D32: Cena bez DPH | J32: =ROUND(J126, 2) -> 49818.35
F34: Základ dane | I34: Sadzba dane | J34: Výška dane
D35: DPH | E35: základná | F35: =ROUND((SUM(BE126:BE157)), 2) -> 0 | I35: 0.2 | J35: =ROUND(((SUM(BE126:BE157))*I35), 2) -> 0
E36: znížená | F36: =ROUND((SUM(BF126:BF157)), 2) -> 11532.32 | I36: 0.2 | J36: =ROUND(((SUM(BF126:BF157))*I36), 2) -> 2306.46
E37: zákl. prenesená | F37: =ROUND((SUM(BG126:BG157)), 2) -> 0 | I37: 0.2 | J37: =0 -> 0
E38: zníž. prenesená | F38: =ROUND((SUM(BH126:BH157)), 2) -> 0 | I38: 0.2 | J38: =0 -> 0
E39: nulová | F39: =ROUND((SUM(BI126:BI157)), 2) -> 0 | I39: 0 | J39: =0 -> 0
D41: Cena s DPH | G41: v | H41: EUR | J41: =SUM(J32:J39) -> 52124.81
D50: Projektant | G50: Spracovateľ
D61: Dátum a podpis: | F61: Pečiatka | G61: Dátum a podpis: | J61: Pečiatka
D65: Objednávateľ | G65: Zhotoviteľ
D76: Dátum a podpis: | F76: Pečiatka | G76: Dátum a podpis: | J76: Pečiatka
C82: REKAPITULÁCIA ROZPOČTU
C84: Stavba:
E85: =E7 -> Rekonštr.cesty II/499 Havran - naviac práce 1 (km 2,500-4,3716)
C86: Objekt:
E87: SO 101 - SO 101 Rekonštrukcia a modernizácia cesty II/499
C88: Časť:
E89: =E11 -> 02 nav. pr. 1 - Zvýšenie únosnosti podložia v km 3,6322-3,9000 vľavo
C91: Miesto: | F91: =F14 | I91: Dátum: | J91: =IF(J14="","",J14) -> 0
C93: Objednávateľ: | F93: =E17 -> Trnavský samosprávny kraj | I93: Projektant: | J93: =E23
C94: Zhotoviteľ: | F94: =IF(E20="","",E20) -> Swietelsky-Slovakia spol. s r.o. | I94: Spracovateľ: | J94: =E26
C96: Kód dielu - Popis | J96: Cena celkom [EUR]
C98: Náklady z rozpočtu | J98: =J126 -> 49818.347 | AU98: -1
D99: D1 - PRÁCE A DODÁVKY HSV | J99: =J127 -> 49818.347
D100: 1 - Zemné práce | J100: =J128 -> 6930.21
D101: 2 - Zakladanie | J101: =J142 -> 3540.12
D102: 4 - Vodorovné konštrukcie | J102: =J149 -> 38286.027
D103: 8 - Rúrové vedenie | J103: =J151 -> 688.34
D104: 99 - Presun hmôt HSV | J104: =J156 -> 373.65
C111: ROZPOČET
C113: Stavba:
E114: =E7 -> Rekonštr.cesty II/499 Havran - naviac práce 1 (km 2,500-4,3716)
C115: Objekt:
E116: SO 101 - SO 101 Rekonštrukcia a modernizácia cesty II/499
C117: Časť:
E118: =E11 -> 02 nav. pr. 1 - Zvýšenie únosnosti podložia v km 3,6322-3,9000 vľavo
C120: Miesto: | F120: =F14 | I120: Dátum:
C122: Objednávateľ: | F122: =E17 -> Trnavský samosprávny kraj | I122: Projektant: | J122: =E23
C123: Zhotoviteľ: | F123: =IF(E20="","",E20) -> Swietelsky-Slovakia spol. s r.o. | I123: Spracovateľ: | J123: =E26
C125: PČ | D125: Typ | E125: Kód | F125: Popis | G125: MJ | H125: Množstvo | I125: J.cena [EUR] | J125: Cena celkom [EUR] | K125: Cenová sústava | N125: DPH | O125: J. Nh [h] | P125: Nh celkom [h] | Q125: J. hmotnosť [t] | R125: Hmotnosť celkom [t] | S125: J. suť [t] | T125: Suť Celkom [t]
C126: Náklady z rozpočtu | J126: =J127 -> 49818.347 | P126: =P127 -> 425.64497 | R126: =R127 -> 41.823353 | T126: =T127 -> 0 | AT126: D | AU126: -1 | BK126: =BK127 -> 11532.32
D127: D | E127: D1 | F127: PRÁCE A DODÁVKY HSV | J127: =J128+J142+J149+J151+J156 -> 49818.347 | P127: =P128+P142+P149+P151+P156 -> 425.64497 | R127: =R128+R142+R149+R151+R156 -> 41.823353 | T127: =T128+T142+T149+T151+T156 -> 0 | AR127: 1 | AT127: D | AU127: 0 | AY127: ROZPOCET | BK127: =BK128+BK142+BK149+BK151+BK156 -> 11532.32
D128: D | E128: 1 | F128: Zemné práce | J128: =BK128 -> 6930.21 | P128: =SUM(P129:P141) -> 289.8109 | R128: =SUM(R129:R141) -> 0 | T128: =SUM(T129:T141) -> 0 | AR128: 1 | AT128: D | AU128: 1 | AY128: ROZPOCET | BK128: =SUM(BK129:BK141) -> 6930.21
C129: 1 | D129: K | E129: 122202202.S | F129: Odkopávka a prekopávka nezapažená pre cesty, v hornine 3 nad 100 do 1000 m3 | G129: m3 | H129: 602.55 | I129: 3.16 | J129: =ROUND(I129*H129,2) -> 1904.06 | N129: znížená | O129: 0.205 | P129: =O129*H129 -> 123.52275 | Q129: 0 | R129: =Q129*H129 -> 0 | S129: 0 | T129: =S129*H129 -> 0 | AR129: 4 | AT129: K | AU129: 2 | AY129: ROZPOCET | BE129: =IF(N129="základná",J129,0) -> 0 | BF129: =IF(N129="znížená",J129,0) -> 1904.06 | BG129: =IF(N129="zákl. prenesená",J129,0) -> 0 | BH129: =IF(N129="zníž. prenesená",J129,0) -> 0 | BI129: =IF(N129="nulová",J129,0) -> 0 | BJ129: 2 | BK129: =ROUND(I129*H129,2) -> 1904.06 | BL129: 4 | BM129: -1134538723
AT130: VV | AU130: 2 | AV130: 2 | AW130: True | AX130: 1 | AY130: ROZPOCET
C131: 2 | D131: K | E131: 122202209 | F131: Odkopávky a prekopávky nezapažené pre cesty. Príplatok za lepivosť horniny 3 | G131: m3 | H131: 180.765 | I131: 0.84 | J131: =ROUND(I131*H131,2) -> 151.84 | N131: znížená | O131: 0.077 | P131: =O131*H131 -> 13.918905 | Q131: 0 | R131: =Q131*H131 -> 0 | S131: 0 | T131: =S131*H131 -> 0 | AR131: 4 | AT131: K | AU131: 2 | AY131: ROZPOCET | BE131: =IF(N131="základná",J131,0) -> 0 | BF131: =IF(N131="znížená",J131,0) -> 151.84 | BG131: =IF(N131="zákl. prenesená",J131,0) -> 0 | BH131: =IF(N131="zníž. prenesená",J131,0) -> 0 | BI131: =IF(N131="nulová",J131,0) -> 0 | BJ131: 2 | BK131: =ROUND(I131*H131,2) -> 151.84 | BL131: 4 | BM131: -305521216
C132: 3 | D132: K | E132: 132201102 | F132: Výkop ryhy do šírky 600 mm v horn.3 nad 100 m3 | G132: m3 | H132: 25 | I132: 5.5 | J132: =ROUND(I132*H132,2) -> 137.5 | N132: znížená | O132: 1.301 | P132: =O132*H132 -> 32.525 | Q132: 0 | R132: =Q132*H132 -> 0 | S132: 0 | T132: =S132*H132 -> 0 | AR132: 4 | AT132: K | AU132: 2 | AY132: ROZPOCET | BE132: =IF(N132="základná",J132,0) -> 0 | BF132: =IF(N132="znížená",J132,0) -> 137.5 | BG132: =IF(N132="zákl. prenesená",J132,0) -> 0 | BH132: =IF(N132="zníž. prenesená",J132,0) -> 0 | BI132: =IF(N132="nulová",J132,0) -> 0 | BJ132: 2 | BK132: =ROUND(I132*H132,2) -> 137.5 | BL132: 4 | BM132: -228035029
AT133: VV | AU133: 2 | AV133: 2 | AW133: True | AX133: 1 | AY133: ROZPOCET
C134: 4 | D134: K | E134: 132201109 | F134: Príplatok k cene za lepivosť pri hĺbení rýh šírky do 600 mm zapažených i nezapažených s urovnaním dna v hornine 3 | G134: m3 | H134: 7.5 | I134: 6.69 | J134: =ROUND(I134*H134,2) -> 50.18 | N134: znížená | O134: 0.613 | P134: =O134*H134 -> 4.5975 | Q134: 0 | R134: =Q134*H134 -> 0 | S134: 0 | T134: =S134*H134 -> 0 | AR134: 4 | AT134: K | AU134: 2 | AY134: ROZPOCET | BE134: =IF(N134="základná",J134,0) -> 0 | BF134: =IF(N134="znížená",J134,0) -> 50.18 | BG134: =IF(N134="zákl. prenesená",J134,0) -> 0 | BH134: =IF(N134="zníž. prenesená",J134,0) -> 0 | BI134: =IF(N134="nulová",J134,0) -> 0 | BJ134: 2 | BK134: =ROUND(I134*H134,2) -> 50.18 | BL134: 4 | BM134: 327152046
C135: 5 | D135: K | E135: 162501102 | F135: Vodorovné premiestnenie výkopku po spevnenej ceste z horniny tr.1-4, do 100 m3 na vzdialenosť do 3000 m | G135: m3 | H135: 627.55 | I135: 3 | J135: =ROUND(I135*H135,2) -> 1882.65 | N135: znížená | O135: 0.071 | P135: =O135*H135 -> 44.55605 | Q135: 0 | R135: =Q135*H135 -> 0 | S135: 0 | T135: =S135*H135 -> 0 | AR135: 4 | AT135: K | AU135: 2 | AY135: ROZPOCET | BE135: =IF(N135="základná",J135,0) -> 0 | BF135: =IF(N135="znížená",J135,0) -> 1882.65 | BG135: =IF(N135="zákl. prenesená",J135,0) -> 0 | BH135: =IF(N135="zníž. prenesená",J135,0) -> 0 | BI135: =IF(N135="nulová",J135,0) -> 0 | BJ135: 2 | BK135: =ROUND(I135*H135,2) -> 1882.65 | BL135: 4 | BM135: -169617432
AT136: VV | AU136: 2 | AV136: 2 | AW136: True | AX136: 1 | AY136: ROZPOCET
C137: 6 | D137: K | E137: 162501105 | F137: Vodorovné premiestnenie výkopku po spevnenej ceste z horniny tr.1-4, do 100 m3, príplatok k cene za každých ďalšich a začatých 1000 m | G137: m3 | H137: 4392.85 | I137: 0.4 | J137: =ROUND(I137*H137,2) -> 1757.14 | N137: znížená | O137: 0.007 | P137: =O137*H137 -> 30.74995 | Q137: 0 | R137: =Q137*H137 -> 0 | S137: 0 | T137: =S137*H137 -> 0 | AR137: 4 | AT137: K | AU137: 2 | AY137: ROZPOCET | BE137: =IF(N137="základná",J137,0) -> 0 | BF137: =IF(N137="znížená",J137,0) -> 1757.14 | BG137: =IF(N137="zákl. prenesená",J137,0) -> 0 | BH137: =IF(N137="zníž. prenesená",J137,0) -> 0 | BI137: =IF(N137="nulová",J137,0) -> 0 | BJ137: 2 | BK137: =ROUND(I137*H137,2) -> 1757.14 | BL137: 4 | BM137: 1820407919
AT138: VV | AU138: 2 | AV138: 2 | AW138: True | AX138: 1 | AY138: ROZPOCET
C139: 7 | D139: K | E139: 171201101 | F139: Uloženie sypaniny do násypov s rozprestretím sypaniny vo vrstvách a s hrubým urovnaním nezhutnených | G139: m3 | H139: 627.55 | I139: 0.9 | J139: =ROUND(I139*H139,2) -> 564.8 | N139: znížená | O139: 0.031 | P139: =O139*H139 -> 19.45405 | Q139: 0 | R139: =Q139*H139 -> 0 | S139: 0 | T139: =S139*H139 -> 0 | AR139: 4 | AT139: K | AU139: 2 | AY139: ROZPOCET | BE139: =IF(N139="základná",J139,0) -> 0 | BF139: =IF(N139="znížená",J139,0) -> 564.8 | BG139: =IF(N139="zákl. prenesená",J139,0) -> 0 | BH139: =IF(N139="zníž. prenesená",J139,0) -> 0 | BI139: =IF(N139="nulová",J139,0) -> 0 | BJ139: 2 | BK139: =ROUND(I139*H139,2) -> 564.8 | BL139: 4 | BM139: 2088972019
C140: 8 | D140: K | E140: 181101102 | F140: Úprava pláne v zárezoch v hornine 1-4 so zhutnením | G140: m2 | H140: 1205.1 | I140: 0.4 | J140: =ROUND(I140*H140,2) -> 482.04 | N140: znížená | O140: 0.017 | P140: =O140*H140 -> 20.4867 | Q140: 0 | R140: =Q140*H140 -> 0 | S140: 0 | T140: =S140*H140 -> 0 | AR140: 4 | AT140: K | AU140: 2 | AY140: ROZPOCET | BE140: =IF(N140="základná",J140,0) -> 0 | BF140: =IF(N140="znížená",J140,0) -> 482.04 | BG140: =IF(N140="zákl. prenesená",J140,0) -> 0 | BH140: =IF(N140="zníž. prenesená",J140,0) -> 0 | BI140: =IF(N140="nulová",J140,0) -> 0 | BJ140: 2 | BK140: =ROUND(I140*H140,2) -> 482.04 | BL140: 4 | BM140: 958656131
AT141: VV | AU141: 2 | AV141: 2 | AW141: True | AX141: 1 | AY141: ROZPOCET
D142: D | E142: 2 | F142: Zakladanie | J142: =BK142 -> 3540.12 | P142: =SUM(P143:P148) -> 72.1591 | R142: =SUM(R143:R148) -> 41.661153 | T142: =SUM(T143:T148) -> 0 | AR142: 1 | AT142: D | AU142: 1 | AY142: ROZPOCET | BK142: =SUM(BK143:BK148) -> 3540.12
C143: 9 | D143: K | E143: 211561111 | F143: Výplň odvodňovacieho rebra alebo trativodu do rýh kamenivom hrubým drveným frakcie 4-16 mm | G143: m3 | H143: 25 | I143: 10.02 | J143: =ROUND(I143*H143,2) -> 250.5 | N143: znížená | O143: 0.87 | P143: =O143*H143 -> 21.75 | Q143: 1.665 | R143: =Q143*H143 -> 41.625 | S143: 0 | T143: =S143*H143 -> 0 | AR143: 4 | AT143: K | AU143: 2 | AY143: ROZPOCET | BE143: =IF(N143="základná",J143,0) -> 0 | BF143: =IF(N143="znížená",J143,0) -> 250.5 | BG143: =IF(N143="zákl. prenesená",J143,0) -> 0 | BH143: =IF(N143="zníž. prenesená",J143,0) -> 0 | BI143: =IF(N143="nulová",J143,0) -> 0 | BJ143: 2 | BK143: =ROUND(I143*H143,2) -> 250.5 | BL143: 4 | BM143: -244733475
AT144: VV | AU144: 2 | AV144: 2 | AW144: True | AX144: 1 | AY144: ROZPOCET
C145: 10 | D145: K | E145: 212972112 | F145: Opláštenie filtračnou textíliou drenážnych rúr DN 100 | G145: m | H145: 100 | I145: 0.72 | J145: =ROUND(I145*H145,2) -> 72 | N145: znížená | O145: 0.01 | P145: =O145*H145 -> 1 | Q145: 0 | R145: =Q145*H145 -> 0 | S145: 0 | T145: =S145*H145 -> 0 | AR145: 4 | AT145: K | AU145: 2 | AY145: ROZPOCET | BE145: =IF(N145="základná",J145,0) -> 0 | BF145: =IF(N145="znížená",J145,0) -> 72 | BG145: =IF(N145="zákl. prenesená",J145,0) -> 0 | BH145: =IF(N145="zníž. prenesená",J145,0) -> 0 | BI145: =IF(N145="nulová",J145,0) -> 0 | BJ145: 2 | BK145: =ROUND(I145*H145,2) -> 72 | BL145: 4 | BM145: -1087147348
C146: 11 | D146: M | E146: 6936654401 | F146: Separačná, filtračná a spevňovacia geotextília | G146: m2 | H146: 1325.61 | I146: 0.6 | J146: =ROUND(I146*H146,2) -> 795.37 | N146: znížená | O146: 0 | P146: =O146*H146 -> 0 | Q146: 0 | R146: =Q146*H146 -> 0 | S146: 0 | T146: =S146*H146 -> 0 | AR146: 8 | AT146: M | AU146: 2 | AY146: ROZPOCET | BE146: =IF(N146="základná",J146,0) -> 0 | BF146: =IF(N146="znížená",J146,0) -> 795.37 | BG146: =IF(N146="zákl. prenesená",J146,0) -> 0 | BH146: =IF(N146="zníž. prenesená",J146,0) -> 0 | BI146: =IF(N146="nulová",J146,0) -> 0 | BJ146: 2 | BK146: =ROUND(I146*H146,2) -> 795.37 | BL146: 4 | BM146: -31878329
AT147: VV | AU147: 2 | AV147: 2 | AW147: True | AX147: 1 | AY147: ROZPOCET
C148: 12 | D148: K | E148: 289971241 | F148: Zhotovenie vrstvy z geotextílie (separačná) na uprav. povrchu | G148: m2 | H148: 1205.1 | I148: 2.01 | J148: =ROUND(I148*H148,2) -> 2422.25 | N148: znížená | O148: 0.041 | P148: =O148*H148 -> 49.4091 | Q148: 3e-05 | R148: =Q148*H148 -> 0.036153 | S148: 0 | T148: =S148*H148 -> 0 | AR148: 4 | AT148: K | AU148: 2 | AY148: ROZPOCET | BE148: =IF(N148="základná",J148,0) -> 0 | BF148: =IF(N148="znížená",J148,0) -> 2422.25 | BG148: =IF(N148="zákl. prenesená",J148,0) -> 0 | BH148: =IF(N148="zníž. prenesená",J148,0) -> 0 | BI148: =IF(N148="nulová",J148,0) -> 0 | BJ148: 2 | BK148: =ROUND(I148*H148,2) -> 2422.25 | BL148: 4 | BM148: 372434403
D149: D | E149: 4 | F149: Vodorovné konštrukcie | J149: =SUM(J150:J150) -> 38286.027 | P149: =SUM(P150:P150) -> 0 | R149: =SUM(R150:R150) -> 0 | T149: =SUM(T150:T150) -> 0 | AR149: 1 | AT149: D | AU149: 1 | AY149: ROZPOCET | BK149: =SUM(BK150:BK150) -> 0
C150: 13 | D150: K | E150: 564791111 | F150: Podklad spevnenej plochy z kameniva drveného so zhutnením frakcie 0-63 mm | G150: m3 | H150: 602.55 | I150: 63.54 | J150: =H150*I150 -> 38286.027 | K150: 1827 | N150: =ROUND(L150*K150,2) -> 0
D151: D | E151: 8 | F151: Rúrové vedenie | J151: =BK151 -> 688.34 | P151: =SUM(P152:P155) -> 12.1374 | R151: =SUM(R152:R155) -> 0.1621998 | T151: =SUM(T152:T155) -> 0 | AR151: 1 | AT151: D | AU151: 1 | AY151: ROZPOCET | BK151: =SUM(BK152:BK155) -> 688.34
C152: 14 | D152: K | E152: 871228111.S | F152: Ukladanie drenážneho potrubia do pripravenej ryhy z tvrdého PVC priemeru nad 90 do 150 mm | G152: m | H152: 367.8 | I152: 0.37 | J152: =ROUND(I152*H152,2) -> 136.09 | N152: znížená | O152: 0.033 | P152: =O152*H152 -> 12.1374 | Q152: 0 | R152: =Q152*H152 -> 0 | S152: 0 | T152: =S152*H152 -> 0 | AR152: 4 | AT152: K | AU152: 2 | AY152: ROZPOCET | BE152: =IF(N152="základná",J152,0) -> 0 | BF152: =IF(N152="znížená",J152,0) -> 136.09 | BG152: =IF(N152="zákl. prenesená",J152,0) -> 0 | BH152: =IF(N152="zníž. prenesená",J152,0) -> 0 | BI152: =IF(N152="nulová",J152,0) -> 0 | BJ152: 2 | BK152: =ROUND(I152*H152,2) -> 136.09 | BL152: 4 | BM152: -1248933476
AT153: VV | AU153: 2 | AV153: 2 | AW153: True | AX153: 1 | AY153: ROZPOCET
C154: 15 | D154: M | E154: 286110015000.S | F154: Flexibilná drenážna PVC-U rúra DN 100, perforovaná | G154: m | H154: 386.19 | I154: 1.43 | J154: =ROUND(I154*H154,2) -> 552.25 | N154: znížená | O154: 0 | P154: =O154*H154 -> 0 | Q154: 0.00042 | R154: =Q154*H154 -> 0.1621998 | S154: 0 | T154: =S154*H154 -> 0 | AR154: 8 | AT154: M | AU154: 2 | AY154: ROZPOCET | BE154: =IF(N154="základná",J154,0) -> 0 | BF154: =IF(N154="znížená",J154,0) -> 552.25 | BG154: =IF(N154="zákl. prenesená",J154,0) -> 0 | BH154: =IF(N154="zníž. prenesená",J154,0) -> 0 | BI154: =IF(N154="nulová",J154,0) -> 0 | BJ154: 2 | BK154: =ROUND(I154*H154,2) -> 552.25 | BL154: 4 | BM154: 509389524
AT155: VV | AU155: 2 | AV155: 2 | AW155: False | AX155: 1 | AY155: ROZPOCET
D156: D | E156: 99 | F156: Presun hmôt HSV | J156: =BK156 -> 373.65 | P156: =P157 -> 51.53756 | R156: =R157 -> 0 | T156: =T157 -> 0 | AR156: 1 | AT156: D | AU156: 1 | AY156: ROZPOCET | BK156: =BK157 -> 373.65
C157: 16 | D157: K | E157: 998225111 | F157: Presun hmôt pre pozemnú komunikáciu a letisko s krytom asfaltovým akejkoľvek dĺžky objektu | G157: t | H157: 1288.439 | I157: 0.29 | J157: =ROUND(I157*H157,2) -> 373.65 | N157: znížená | O157: 0.04 | P157: =O157*H157 -> 51.53756 | Q157: 0 | R157: =Q157*H157 -> 0 | S157: 0 | T157: =S157*H157 -> 0 | AR157: 4 | AT157: K | AU157: 2 | AY157: ROZPOCET | BE157: =IF(N157="základná",J157,0) -> 0 | BF157: =IF(N157="znížená",J157,0) -> 373.65 | BG157: =IF(N157="zákl. prenesená",J157,0) -> 0 | BH157: =IF(N157="zníž. prenesená",J157,0) -> 0 | BI157: =IF(N157="nulová",J157,0) -> 0 | BJ157: 2 | BK157: =ROUND(I157*H157,2) -> 373.65 | BL157: 4 | BM157: -1327892403

Sheet 01 nav. pr. 1 - Zvýšenie ...
L2: >> skryté stĺpce << | AT2: {2d71651e-d198-484f-b671-7be27ed78c73}
AT3: 0
D4: KRYCÍ LIST ROZPOČTU | M4: v --- nižšie sa nachádzajú doplnkové a pomocné údaje k zostavám --- v | AT4: False
D6: Stavba:
E7: ='Rekapitulácia stavby'!K6 -> Rekonštr.cesty II/499 Havran - naviac práce 1 (km 2,500-4,3716)
D8: Objekt:
E9: SO 208 - SO 208 - Gabiónový múr v km 3,050-3,125 cesty II/499 vpravo
D10: Časť:
E11: 01 nav. pr. 1 - Zvýšenie únosnosti podložia
D13: JKSO: | I13: KS:
D14: Miesto: | I14: Dátum: | J14: ='Rekapitulácia stavby'!AN8 -> 0
D16: Objednávateľ: | I16: IČO: | J16: 37836901
E17: Trnavský samosprávny kraj | I17: IČ DPH:
D19: Zhotoviteľ: | I19: IČO: | J19: 00896225
E20: Swietelsky-Slovakia spol. s r.o. | I20: IČ DPH: | J20: SK2020294144
D22: Projektant: | I22: IČO: | J22: =IF('Rekapitulácia stavby'!AN16="","",'Rekapitulácia stavby'!AN16)
E23: =IF('Rekapitulácia stavby'!E17="","",'Rekapitulácia stavby'!E17) | I23: IČ DPH: | J23: =IF('Rekapitulácia stavby'!AN17="","",'Rekapitulácia stavby'!AN17)
D25: Spracovateľ: | I25: IČO: | J25: =IF('Rekapitulácia stavby'!AN19="","",'Rekapitulácia stavby'!AN19)
E26: =IF('Rekapitulácia stavby'!E20="","",'Rekapitulácia stavby'!E20) | I26: IČ DPH: | J26: =IF('Rekapitulácia stavby'!AN20="","",'Rekapitulácia stavby'!AN20)
D28: Poznámka:
E29: Zvýšenie únosnosti
D32: Cena bez DPH | J32: =ROUND(J126, 2) -> 17398.08
F34: Základ dane | I34: Sadzba dane | J34: Výška dane
D35: DPH | E35: základná | F35: =ROUND((SUM(BE126:BE156)), 2) -> 0 | I35: 0.2 | J35: =ROUND(((SUM(BE126:BE156))*I35), 2) -> 0
E36: znížená | F36: =ROUND((SUM(BF126:BF156)), 2) -> 3959.37 | I36: 0.2 | J36: =ROUND(((SUM(BF126:BF156))*I36), 2) -> 791.87
E37: zákl. prenesená | F37: =ROUND((SUM(BG126:BG156)), 2) -> 0 | I37: 0.2 | J37: =0 -> 0
E38: zníž. prenesená | F38: =ROUND((SUM(BH126:BH156)), 2) -> 0 | I38: 0.2 | J38: =0 -> 0
E39: nulová | F39: =ROUND((SUM(BI126:BI156)), 2) -> 0 | I39: 0 | J39: =0 -> 0
D41: Cena s DPH | G41: v | H41: EUR | J41: =SUM(J32:J39) -> 18189.95
D50: Projektant | G50: Spracovateľ
D61: Dátum a podpis: | F61: Pečiatka | G61: Dátum a podpis: | J61: Pečiatka
D65: Objednávateľ | G65: Zhotoviteľ
D76: Dátum a podpis: | F76: Pečiatka | G76: Dátum a podpis: | J76: Pečiatka
C82: REKAPITULÁCIA ROZPOČTU
C84: Stavba:
E85: =E7 -> Rekonštr.cesty II/499 Havran - naviac práce 1 (km 2,500-4,3716)
C86: Objekt:
E87: SO 208 - SO 208 - Gabiónový múr v km 3,050-3,125 cesty II/499 vpravo
C88: Časť:
E89: =E11 -> 01 nav. pr. 1 - Zvýšenie únosnosti podložia
C91: Miesto: | F91: =F14 | I91: Dátum: | J91: =IF(J14="","",J14) -> 0
C93: Objednávateľ: | F93: =E17 -> Trnavský samosprávny kraj | I93: Projektant: | J93: =E23
C94: Zhotoviteľ: | F94: =IF(E20="","",E20) -> Swietelsky-Slovakia spol. s r.o. | I94: Spracovateľ: | J94: =E26
C96: Kód dielu - Popis | J96: Cena celkom [EUR]
C98: Náklady z rozpočtu | J98: =J126 -> 17398.08 | AU98: -1
D99: D1 - PRÁCE A DODÁVKY HSV | J99: =J127 -> 17398.08
D100: 1 - Zemné práce | J100: =J128 -> 2396.69
D101: 2 - Zakladanie | J101: =J142 -> 1210.04
D102: 4 - Vodorovné konštrukcie | J102: =J148 -> 13438.71
D103: 8 - Rúrové vedenie | J103: =J150 -> 222.71
D104: 99 - Presun hmôt HSV | J104: =J155 -> 129.93
C111: ROZPOČET
C113: Stavba:
E114: =E7 -> Rekonštr.cesty II/499 Havran - naviac práce 1 (km 2,500-4,3716)
C115: Objekt:
E116: SO 208 - SO 208 - Gabiónový múr v km 3,050-3,125 cesty II/499 vpravo
C117: Časť:
E118: =E11 -> 01 nav. pr. 1 - Zvýšenie únosnosti podložia
C120: Miesto: | F120: =F14 | I120: Dátum:
C122: Objednávateľ: | F122: =E17 -> Trnavský samosprávny kraj | I122: Projektant: | J122: =E23
C123: Zhotoviteľ: | F123: =IF(E20="","",E20) -> Swietelsky-Slovakia spol. s r.o. | I123: Spracovateľ: | J123: =E26
C125: PČ | D125: Typ | E125: Kód | F125: Popis | G125: MJ | H125: Množstvo | I125: J.cena [EUR] | J125: Cena celkom [EUR] | K125: Cenová sústava | N125: DPH | O125: J. Nh [h] | P125: Nh celkom [h] | Q125: J. hmotnosť [t] | R125: Hmotnosť celkom [t] | S125: J. suť [t] | T125: Suť Celkom [t]
C126: Náklady z rozpočtu | J126: =J127 -> 17398.08 | P126: =P127 -> 142.47429 | R126: =R127 -> 10.471419 | T126: =T127 -> 0 | AT126: D | AU126: -1 | BK126: =BK127 -> 3959.37
D127: D | E127: D1 | F127: PRÁCE A DODÁVKY HSV | J127: =J128+J142+J148+J150+J155 -> 17398.08 | P127: =P128+P142+P148+P150+P155 -> 142.47429 | R127: =R128+R142+R148+R150+R155 -> 10.471419 | T127: =T128+T142+T148+T150+T155 -> 0 | AR127: 1 | AT127: D | AU127: 0 | AY127: ROZPOCET | BK127: =BK128+BK142+BK148+BK150+BK155 -> 3959.37
D128: D | E128: 1 | F128: Zemné práce | J128: =BK128 -> 2396.69 | P128: =SUM(P129:P141) -> 97.595025 | R128: =SUM(R129:R141) -> 0 | T128: =SUM(T129:T141) -> 0 | AR128: 1 | AT128: D | AU128: 1 | AY128: ROZPOCET | BK128: =SUM(BK129:BK141) -> 2396.69
C129: 1 | D129: K | E129: 122202202.S | F129: Odkopávka a prekopávka nezapažená pre cesty, v hornine 3 nad 100 do 1000 m3 | G129: m3 | H129: 211.5 | I129: 3.16 | J129: =ROUND(I129*H129,2) -> 668.34 | N129: znížená | O129: 0.205 | P129: =O129*H129 -> 43.3575 | Q129: 0 | R129: =Q129*H129 -> 0 | S129: 0 | T129: =S129*H129 -> 0 | AR129: 4 | AT129: K | AU129: 2 | AY129: ROZPOCET | BE129: =IF(N129="základná",J129,0) -> 0 | BF129: =IF(N129="znížená",J129,0) -> 668.34 | BG129: =IF(N129="zákl. prenesená",J129,0) -> 0 | BH129: =IF(N129="zníž. prenesená",J129,0) -> 0 | BI129: =IF(N129="nulová",J129,0) -> 0 | BJ129: 2 | BK129: =ROUND(I129*H129,2) -> 668.34 | BL129: 4 | BM129: -1134538723
AT130: VV | AU130: 2 | AV130: 2 | AW130: True | AX130: 1 | AY130: ROZPOCET
C131: 2 | D131: K | E131: 122202209 | F131: Odkopávky a prekopávky nezapažené pre cesty. Príplatok za lepivosť horniny 3 | G131: m3 | H131: 63.45 | I131: 0.84 | J131: =ROUND(I131*H131,2) -> 53.3 | N131: znížená | O131: 0.077 | P131: =O131*H131 -> 4.88565 | Q131: 0 | R131: =Q131*H131 -> 0 | S131: 0 | T131: =S131*H131 -> 0 | AR131: 4 | AT131: K | AU131: 2 | AY131: ROZPOCET | BE131: =IF(N131="základná",J131,0) -> 0 | BF131: =IF(N131="znížená",J131,0) -> 53.3 | BG131: =IF(N131="zákl. prenesená",J131,0) -> 0 | BH131: =IF(N131="zníž. prenesená",J131,0) -> 0 | BI131: =IF(N131="nulová",J131,0) -> 0 | BJ131: 2 | BK131: =ROUND(I131*H131,2) -> 53.3 | BL131: 4 | BM131: -305521216
C132: 3 | D132: K | E132: 132201102 | F132: Výkop ryhy do šírky 600 mm v horn.3 nad 100 m3 | G132: m3 | H132: 6.25 | I132: 5.5 | J132: =ROUND(I132*H132,2) -> 34.38 | N132: znížená | O132: 1.301 | P132: =O132*H132 -> 8.13125 | Q132: 0 | R132: =Q132*H132 -> 0 | S132: 0 | T132: =S132*H132 -> 0 | AR132: 4 | AT132: K | AU132: 2 | AY132: ROZPOCET | BE132: =IF(N132="základná",J132,0) -> 0 | BF132: =IF(N132="znížená",J132,0) -> 34.38 | BG132: =IF(N132="zákl. prenesená",J132,0) -> 0 | BH132: =IF(N132="zníž. prenesená",J132,0) -> 0 | BI132: =IF(N132="nulová",J132,0) -> 0 | BJ132: 2 | BK132: =ROUND(I132*H132,2) -> 34.38 | BL132: 4 | BM132: -228035029
AT133: VV | AU133: 2 | AV133: 2 | AW133: True | AX133: 1 | AY133: ROZPOCET
C134: 4 | D134: K | E134: 132201109 | F134: Príplatok k cene za lepivosť pri hĺbení rýh šírky do 600 mm zapažených i nezapažených s urovnaním dna v hornine 3 | G134: m3 | H134: 1.875 | I134: 6.69 | J134: =ROUND(I134*H134,2) -> 12.54 | N134: znížená | O134: 0.613 | P134: =O134*H134 -> 1.149375 | Q134: 0 | R134: =Q134*H134 -> 0 | S134: 0 | T134: =S134*H134 -> 0 | AR134: 4 | AT134: K | AU134: 2 | AY134: ROZPOCET | BE134: =IF(N134="základná",J134,0) -> 0 | BF134: =IF(N134="znížená",J134,0) -> 12.54 | BG134: =IF(N134="zákl. prenesená",J134,0) -> 0 | BH134: =IF(N134="zníž. prenesená",J134,0) -> 0 | BI134: =IF(N134="nulová",J134,0) -> 0 | BJ134: 2 | BK134: =ROUND(I134*H134,2) -> 12.54 | BL134: 4 | BM134: 327152046
C135: 5 | D135: K | E135: 162501102 | F135: Vodorovné premiestnenie výkopku po spevnenej ceste z horniny tr.1-4, do 100 m3 na vzdialenosť do 3000 m | G135: m3 | H135: 217.75 | I135: 3 | J135: =ROUND(I135*H135,2) -> 653.25 | N135: znížená | O135: 0.071 | P135: =O135*H135 -> 15.46025 | Q135: 0 | R135: =Q135*H135 -> 0 | S135: 0 | T135: =S135*H135 -> 0 | AR135: 4 | AT135: K | AU135: 2 | AY135: ROZPOCET | BE135: =IF(N135="základná",J135,0) -> 0 | BF135: =IF(N135="znížená",J135,0) -> 653.25 | BG135: =IF(N135="zákl. prenesená",J135,0) -> 0 | BH135: =IF(N135="zníž. prenesená",J135,0) -> 0 | BI135: =IF(N135="nulová",J135,0) -> 0 | BJ135: 2 | BK135: =ROUND(I135*H135,2) -> 653.25 | BL135: 4 | BM135: -169617432
AT136: VV | AU136: 2 | AV136: 2 | AW136: True | AX136: 1 | AY136: ROZPOCET
C137: 6 | D137: K | E137: 162501105 | F137: Vodorovné premiestnenie výkopku po spevnenej ceste z horniny tr.1-4, do 100 m3, príplatok k cene za každých ďalšich a začatých 1000 m | G137: m3 | H137: 1524.25 | I137: 0.4 | J137: =ROUND(I137*H137,2) -> 609.7 | N137: znížená | O137: 0.007 | P137: =O137*H137 -> 10.66975 | Q137: 0 | R137: =Q137*H137 -> 0 | S137: 0 | T137: =S137*H137 -> 0 | AR137: 4 | AT137: K | AU137: 2 | AY137: ROZPOCET | BE137: =IF(N137="základná",J137,0) -> 0 | BF137: =IF(N137="znížená",J137,0) -> 609.7 | BG137: =IF(N137="zákl. prenesená",J137,0) -> 0 | BH137: =IF(N137="zníž. prenesená",J137,0) -> 0 | BI137: =IF(N137="nulová",J137,0) -> 0 | BJ137: 2 | BK137: =ROUND(I137*H137,2) -> 609.7 | BL137: 4 | BM137: 1820407919
AT138: VV | AU138: 2 | AV138: 2 | AW138: True | AX138: 1 | AY138: ROZPOCET
C139: 7 | D139: K | E139: 171201101 | F139: Uloženie sypaniny do násypov s rozprestretím sypaniny vo vrstvách a s hrubým urovnaním nezhutnených | G139: m3 | H139: 217.75 | I139: 0.9 | J139: =ROUND(I139*H139,2) -> 195.98 | N139: znížená | O139: 0.031 | P139: =O139*H139 -> 6.75025 | Q139: 0 | R139: =Q139*H139 -> 0 | S139: 0 | T139: =S139*H139 -> 0 | AR139: 4 | AT139: K | AU139: 2 | AY139: ROZPOCET | BE139: =IF(N139="základná",J139,0) -> 0 | BF139: =IF(N139="znížená",J139,0) -> 195.98 | BG139: =IF(N139="zákl. prenesená",J139,0) -> 0 | BH139: =IF(N139="zníž. prenesená",J139,0) -> 0 | BI139: =IF(N139="nulová",J139,0) -> 0 | BJ139: 2 | BK139: =ROUND(I139*H139,2) -> 195.98 | BL139: 4 | BM139: 2088972019
C140: 8 | D140: K | E140: 181101102 | F140: Úprava pláne v zárezoch v hornine 1-4 so zhutnením | G140: m2 | H140: 423 | I140: 0.4 | J140: =ROUND(I140*H140,2) -> 169.2 | N140: znížená | O140: 0.017 | P140: =O140*H140 -> 7.191 | Q140: 0 | R140: =Q140*H140 -> 0 | S140: 0 | T140: =S140*H140 -> 0 | AR140: 4 | AT140: K | AU140: 2 | AY140: ROZPOCET | BE140: =IF(N140="základná",J140,0) -> 0 | BF140: =IF(N140="znížená",J140,0) -> 169.2 | BG140: =IF(N140="zákl. prenesená",J140,0) -> 0 | BH140: =IF(N140="zníž. prenesená",J140,0) -> 0 | BI140: =IF(N140="nulová",J140,0) -> 0 | BJ140: 2 | BK140: =ROUND(I140*H140,2) -> 169.2 | BL140: 4 | BM140: 958656131
AT141: VV | AU141: 2 | AV141: 2 | AW141: True | AX141: 1 | AY141: ROZPOCET
D142: D | E142: 2 | F142: Zakladanie | J142: =BK142 -> 1210.04 | P142: =SUM(P143:P147) -> 23.0305 | R142: =SUM(R143:R147) -> 10.41894 | T142: =SUM(T143:T147) -> 0 | AR142: 1 | AT142: D | AU142: 1 | AY142: ROZPOCET | BK142: =SUM(BK143:BK147) -> 1210.04
C143: 9 | D143: K | E143: 211561111 | F143: Výplň odvodňovacieho rebra alebo trativodu do rýh kamenivom hrubým drveným frakcie 4-16 mm | G143: m3 | H143: 6.25 | I143: 10.02 | J143: =ROUND(I143*H143,2) -> 62.63 | N143: znížená | O143: 0.87 | P143: =O143*H143 -> 5.4375 | Q143: 1.665 | R143: =Q143*H143 -> 10.40625 | S143: 0 | T143: =S143*H143 -> 0 | AR143: 4 | AT143: K | AU143: 2 | AY143: ROZPOCET | BE143: =IF(N143="základná",J143,0) -> 0 | BF143: =IF(N143="znížená",J143,0) -> 62.63 | BG143: =IF(N143="zákl. prenesená",J143,0) -> 0 | BH143: =IF(N143="zníž. prenesená",J143,0) -> 0 | BI143: =IF(N143="nulová",J143,0) -> 0 | BJ143: 2 | BK143: =ROUND(I143*H143,2) -> 62.63 | BL143: 4 | BM143: -244733475
C144: 10 | D144: K | E144: 212972112 | F144: Opláštenie filtračnou textíliou drenážnych rúr DN 100 | G144: m | H144: 25 | I144: 0.72 | J144: =ROUND(I144*H144,2) -> 18 | N144: znížená | O144: 0.01 | P144: =O144*H144 -> 0.25 | Q144: 0 | R144: =Q144*H144 -> 0 | S144: 0 | T144: =S144*H144 -> 0 | AR144: 4 | AT144: K | AU144: 2 | AY144: ROZPOCET | BE144: =IF(N144="základná",J144,0) -> 0 | BF144: =IF(N144="znížená",J144,0) -> 18 | BG144: =IF(N144="zákl. prenesená",J144,0) -> 0 | BH144: =IF(N144="zníž. prenesená",J144,0) -> 0 | BI144: =IF(N144="nulová",J144,0) -> 0 | BJ144: 2 | BK144: =ROUND(I144*H144,2) -> 18 | BL144: 4 | BM144: -1087147348
C145: 11 | D145: M | E145: 6936654401 | F145: Separačná, filtračná a spevňovacia geotextília | G145: m2 | H145: 465.3 | I145: 0.6 | J145: =ROUND(I145*H145,2) -> 279.18 | N145: znížená | O145: 0 | P145: =O145*H145 -> 0 | Q145: 0 | R145: =Q145*H145 -> 0 | S145: 0 | T145: =S145*H145 -> 0 | AR145: 8 | AT145: M | AU145: 2 | AY145: ROZPOCET | BE145: =IF(N145="základná",J145,0) -> 0 | BF145: =IF(N145="znížená",J145,0) -> 279.18 | BG145: =IF(N145="zákl. prenesená",J145,0) -> 0 | BH145: =IF(N145="zníž. prenesená",J145,0) -> 0 | BI145: =IF(N145="nulová",J145,0) -> 0 | BJ145: 2 | BK145: =ROUND(I145*H145,2) -> 279.18 | BL145: 4 | BM145: -31878329
AT146: VV | AU146: 2 | AV146: 2 | AW146: True | AX146: 1 | AY146: ROZPOCET
C147: 12 | D147: K | E147: 289971241 | F147: Zhotovenie vrstvy z geotextílie (separačná) na uprav. povrchu | G147: m2 | H147: 423 | I147: 2.01 | J147: =ROUND(I147*H147,2) -> 850.23 | N147: znížená | O147: 0.041 | P147: =O147*H147 -> 17.343 | Q147: 3e-05 | R147: =Q147*H147 -> 0.01269 | S147: 0 | T147: =S147*H147 -> 0 | AR147: 4 | AT147: K | AU147: 2 | AY147: ROZPOCET | BE147: =IF(N147="základná",J147,0) -> 0 | BF147: =IF(N147="znížená",J147,0) -> 850.23 | BG147: =IF(N147="zákl. prenesená",J147,0) -> 0 | BH147: =IF(N147="zníž. prenesená",J147,0) -> 0 | BI147: =IF(N147="nulová",J147,0) -> 0 | BJ147: 2 | BK147: =ROUND(I147*H147,2) -> 850.23 | BL147: 4 | BM147: 372434403
D148: D | E148: 4 | F148: Vodorovné konštrukcie | J148: =SUM(J149:J149) -> 13438.71 | P148: =SUM(P149:P149) -> 0 | R148: =SUM(R149:R149) -> 0 | T148: =SUM(T149:T149) -> 0 | AR148: 1 | AT148: D | AU148: 1 | AY148: ROZPOCET | BK148: =SUM(BK149:BK149) -> 0
C149: 13 | D149: K | E149: 564791111 | F149: Podklad spevnenej plochy z kameniva drveného so zhutnením frakcie 0-63 mm | G149: m3 | H149: 211.5 | I149: 63.54 | J149: =H149*I149 -> 13438.71
D150: D | E150: 8 | F150: Rúrové vedenie | J150: =BK150 -> 222.71 | P150: =SUM(P151:P154) -> 3.927 | R150: =SUM(R151:R154) -> 0.052479 | T150: =SUM(T151:T154) -> 0 | AR150: 1 | AT150: D | AU150: 1 | AY150: ROZPOCET | BK150: =SUM(BK151:BK154) -> 222.71
C151: 14 | D151: K | E151: 871228111.S | F151: Ukladanie drenážneho potrubia do pripravenej ryhy z tvrdého PVC priemeru nad 90 do 150 mm | G151: m | H151: 119 | I151: 0.37 | J151: =ROUND(I151*H151,2) -> 44.03 | N151: znížená | O151: 0.033 | P151: =O151*H151 -> 3.927 | Q151: 0 | R151: =Q151*H151 -> 0 | S151: 0 | T151: =S151*H151 -> 0 | AR151: 4 | AT151: K | AU151: 2 | AY151: ROZPOCET | BE151: =IF(N151="základná",J151,0) -> 0 | BF151: =IF(N151="znížená",J151,0) -> 44.03 | BG151: =IF(N151="zákl. prenesená",J151,0) -> 0 | BH151: =IF(N151="zníž. prenesená",J151,0) -> 0 | BI151: =IF(N151="nulová",J151,0) -> 0 | BJ151: 2 | BK151: =ROUND(I151*H151,2) -> 44.03 | BL151: 4 | BM151: -1248933476
F152: 25+94 | AT152: VV | AU152: 2 | AV152: 2 | AW152: True | AX152: 1 | AY152: ROZPOCET
C153: 15 | D153: M | E153: 286110015000.S | F153: Flexibilná drenážna PVC-U rúra DN 100, perforovaná | G153: m | H153: 124.95 | I153: 1.43 | J153: =ROUND(I153*H153,2) -> 178.68 | N153: znížená | O153: 0 | P153: =O153*H153 -> 0 | Q153: 0.00042 | R153: =Q153*H153 -> 0.052479 | S153: 0 | T153: =S153*H153 -> 0 | AR153: 8 | AT153: M | AU153: 2 | AY153: ROZPOCET | BE153: =IF(N153="základná",J153,0) -> 0 | BF153: =IF(N153="znížená",J153,0) -> 178.68 | BG153: =IF(N153="zákl. prenesená",J153,0) -> 0 | BH153: =IF(N153="zníž. prenesená",J153,0) -> 0 | BI153: =IF(N153="nulová",J153,0) -> 0 | BJ153: 2 | BK153: =ROUND(I153*H153,2) -> 178.68 | BL153: 4 | BM153: 509389524
AT154: VV | AU154: 2 | AV154: 2 | AW154: False | AX154: 1 | AY154: ROZPOCET
D155: D | E155: 99 | F155: Presun hmôt HSV | J155: =BK155 -> 129.93 | P155: =P156 -> 17.92176 | R155: =R156 -> 0 | T155: =T156 -> 0 | AR155: 1 | AT155: D | AU155: 1 | AY155: ROZPOCET | BK155: =BK156 -> 129.93
C156: 16 | D156: K | E156: 998225111 | F156: Presun hmôt pre pozemnú komunikáciu a letisko s krytom asfaltovým akejkoľvek dĺžky objektu | G156: t | H156: 448.044 | I156: 0.29 | J156: =ROUND(I156*H156,2) -> 129.93 | N156: znížená | O156: 0.04 | P156: =O156*H156 -> 17.92176 | Q156: 0 | R156: =Q156*H156 -> 0 | S156: 0 | T156: =S156*H156 -> 0 | AR156: 4 | AT156: K | AU156: 2 | AY156: ROZPOCET | BE156: =IF(N156="základná",J156,0) -> 0 | BF156: =IF(N156="znížená",J156,0) -> 129.93 | BG156: =IF(N156="zákl. prenesená",J156,0) -> 0 | BH156: =IF(N156="zníž. prenesená",J156,0) -> 0 | BI156: =IF(N156="nulová",J156,0) -> 0 | BJ156: 2 | BK156: =ROUND(I156*H156,2) -> 129.93 | BL156: 4 | BM156: -1327892403

Sheet 02 nav. pr. 1 - Predíženi...
L2: >> skryté stĺpce << | AT2: {1e24f6ec-3d2e-4306-a1f4-67b6c8898d80}
AT3: 0
D4: KRYCÍ LIST ROZPOČTU | M4: v --- nižšie sa nachádzajú doplnkové a pomocné údaje k zostavám --- v | AT4: False
D6: Stavba:
E7: ='Rekapitulácia stavby'!K6 -> Rekonštr.cesty II/499 Havran - naviac práce 1 (km 2,500-4,3716)
D8: Objekt:
E9: SO 208 - SO 208 - Gabiónový múr v km 3,050-3,125 cesty II/499 vpravo
D10: Časť:
E11: 02 nav. pr. 1 - Predíženie múru v km 3,1250-
D13: JKSO: | I13: KS:
D14: Miesto: | I14: Dátum: | J14: ='Rekapitulácia stavby'!AN8 -> 0
D16: Objednávateľ: | I16: IČO: | J16: 37836901
E17: Trnavský samosprávny kraj | I17: IČ DPH:
D19: Zhotoviteľ: | I19: IČO: | J19: 00896225
E20: Swietelsky-Slovakia spol. s r.o. | I20: IČ DPH: | J20: SK2020294144
D22: Projektant: | I22: IČO: | J22: =IF('Rekapitulácia stavby'!AN16="","",'Rekapitulácia stavby'!AN16)
E23: =IF('Rekapitulácia stavby'!E17="","",'Rekapitulácia stavby'!E17) | I23: IČ DPH: | J23: =IF('Rekapitulácia stavby'!AN17="","",'Rekapitulácia stavby'!AN17)
D25: Spracovateľ: | I25: IČO: | J25: =IF('Rekapitulácia stavby'!AN19="","",'Rekapitulácia stavby'!AN19)
E26: =IF('Rekapitulácia stavby'!E20="","",'Rekapitulácia stavby'!E20) | I26: IČ DPH: | J26: =IF('Rekapitulácia stavby'!AN20="","",'Rekapitulácia stavby'!AN20)
D28: Poznámka:
D32: Cena bez DPH | J32: =ROUND(J127, 2) -> 8130.93
F34: Základ dane | I34: Sadzba dane | J34: Výška dane
D35: DPH | E35: základná | F35: =ROUND((SUM(BE127:BE149)), 2) -> 0 | I35: 0.2 | J35: =ROUND(((SUM(BE127:BE149))*I35), 2) -> 0
E36: znížená | F36: =ROUND((SUM(BF127:BF149)), 2) -> 8130.93 | I36: 0.2 | J36: =ROUND(((SUM(BF127:BF149))*I36), 2) -> 1626.19
E37: zákl. prenesená | F37: =ROUND((SUM(BG127:BG149)), 2) -> 0 | I37: 0.2 | J37: =0 -> 0
E38: zníž. prenesená | F38: =ROUND((SUM(BH127:BH149)), 2) -> 0 | I38: 0.2 | J38: =0 -> 0
E39: nulová | F39: =ROUND((SUM(BI127:BI149)), 2) -> 0 | I39: 0 | J39: =0 -> 0
D41: Cena s DPH | G41: v | H41: EUR | J41: =SUM(J32:J39) -> 9757.12
D50: Projektant | G50: Spracovateľ
D61: Dátum a podpis: | F61: Pečiatka | G61: Dátum a podpis: | J61: Pečiatka
D65: Objednávateľ | G65: Zhotoviteľ
D76: Dátum a podpis: | F76: Pečiatka | G76: Dátum a podpis: | J76: Pečiatka
C82: REKAPITULÁCIA ROZPOČTU
C84: Stavba:
E85: =E7 -> Rekonštr.cesty II/499 Havran - naviac práce 1 (km 2,500-4,3716)
C86: Objekt:
E87: SO 208 - SO 208 - Gabiónový múr v km 3,050-3,125 cesty II/499 vpravo
C88: Časť:
E89: =E11 -> 02 nav. pr. 1 - Predíženie múru v km 3,1250-
C91: Miesto: | F91: =F14 | I91: Dátum: | J91: =IF(J14="","",J14) -> 0
C93: Objednávateľ: | F93: =E17 -> Trnavský samosprávny kraj | I93: Projektant: | J93: =E23
C94: Zhotoviteľ: | F94: =IF(E20="","",E20) -> Swietelsky-Slovakia spol. s r.o. | I94: Spracovateľ: | J94: =E26
C96: Kód dielu - Popis | J96: Cena celkom [EUR]
C98: Náklady z rozpočtu | J98: =J127 -> 8130.93 | AU98: -1
D99: HSV - Práce a dodávky HSV | J99: =J128 -> 8130.93
D100: 1 - Zemné práce | J100: =J129 -> 2553.54
D101: 2 - Zakladanie | J101: =J135 -> 443.48
D102: 3 - Zvislé a kompletné konštrukcie | J102: =J139 -> 2548.39
D103: 5 - Komunikácie | J103: =J143 -> 2257.71
D104: 9 - Ostatné konštrukcie a práce-búranie | J104: =J146 -> 325.85
D105: 99 - Presun hmôt HSV | J105: =J148 -> 1.96
C112: ROZPOČET
C114: Stavba:
E115: =E7 -> Rekonštr.cesty II/499 Havran - naviac práce 1 (km 2,500-4,3716)
C116: Objekt:
E117: SO 208 - SO 208 - Gabiónový múr v km 3,050-3,125 cesty II/499 vpravo
C118: Časť:
E119: =E11 -> 02 nav. pr. 1 - Predíženie múru v km 3,1250-
C121: Miesto: | F121: =F14 | I121: Dátum:
C123: Objednávateľ: | F123: =E17 -> Trnavský samosprávny kraj | I123: Projektant: | J123: =E23
C124: Zhotoviteľ: | F124: =IF(E20="","",E20) -> Swietelsky-Slovakia spol. s r.o. | I124: Spracovateľ: | J124: =E26
C126: PČ | D126: Typ | E126: Kód | F126: Popis | G126: MJ | H126: Množstvo | I126: J.cena [EUR] | J126: Cena celkom [EUR] | K126: Cenová sústava | N126: DPH | O126: J. Nh [h] | P126: Nh celkom [h] | Q126: J. hmotnosť [t] | R126: Hmotnosť celkom [t] | S126: J. suť [t] | T126: Suť Celkom [t]
C127: Náklady z rozpočtu | J127: =BK127 -> 8130.93 | P127: =P128 -> 174.05588 | R127: =R128 -> 96.91067 | T127: =T128 -> 0 | AT127: D | AU127: -1 | BK127: =BK128 -> 8130.93
D128: D | E128: HSV | F128: Práce a dodávky HSV | J128: =BK128 -> 8130.93 | P128: =P129+P135+P139+P143+P146+P148 -> 174.05588 | R128: =R129+R135+R139+R143+R146+R148 -> 96.91067 | T128: =T129+T135+T139+T143+T146+T148 -> 0 | AR128: 1 | AT128: D | AU128: 0 | AY128: ROZPOCET | BK128: =BK129+BK135+BK139+BK143+BK146+BK148 -> 8130.93
D129: D | E129: 1 | F129: Zemné práce | J129: =BK129 -> 2553.54 | P129: =SUM(P130:P134) -> 86.03674 | R129: =SUM(R130:R134) -> 0 | T129: =SUM(T130:T134) -> 0 | AR129: 1 | AT129: D | AU129: 1 | AY129: ROZPOCET | BK129: =SUM(BK130:BK134) -> 2553.54
C130: 1 | D130: K | E130: 131201101 | F130: Výkop nezapaženej jamy v hornine 3, do 100 m3 | G130: m3 | H130: 86.51 | I130: 4.31 | J130: =ROUND(I130*H130,2) -> 372.86 | N130: znížená | O130: 0.838 | P130: =O130*H130 -> 72.49538 | Q130: 0 | R130: =Q130*H130 -> 0 | S130: 0 | T130: =S130*H130 -> 0 | AR130: 4 | AT130: K | AU130: 2 | AY130: ROZPOCET | BE130: =IF(N130="základná",J130,0) -> 0 | BF130: =IF(N130="znížená",J130,0) -> 372.86 | BG130: =IF(N130="zákl. prenesená",J130,0) -> 0 | BH130: =IF(N130="zníž. prenesená",J130,0) -> 0 | BI130: =IF(N130="nulová",J130,0) -> 0 | BJ130: 2 | BK130: =ROUND(I130*H130,2) -> 372.86 | BL130: 4 | BM130: 2
C131: 2 | D131: K | E131: 131201109 | F131: Hĺbenie nezapažených jám a zárezov. Príplatok za lepivosť horniny 3 | G131: m3 | H131: 25.95 | I131: 1.32 | J131: =ROUND(I131*H131,2) -> 34.25 | N131: znížená | O131: 0.042 | P131: =O131*H131 -> 1.0899 | Q131: 0 | R131: =Q131*H131 -> 0 | S131: 0 | T131: =S131*H131 -> 0 | AR131: 4 | AT131: K | AU131: 2 | AY131: ROZPOCET | BE131: =IF(N131="základná",J131,0) -> 0 | BF131: =IF(N131="znížená",J131,0) -> 34.25 | BG131: =IF(N131="zákl. prenesená",J131,0) -> 0 | BH131: =IF(N131="zníž. prenesená",J131,0) -> 0 | BI131: =IF(N131="nulová",J131,0) -> 0 | BJ131: 2 | BK131: =ROUND(I131*H131,2) -> 34.25 | BL131: 4 | BM131: 4
C132: 3 | D132: K | E132: 162501102 | F132: Vodorovné premiestnenie výkopku po spevnenej ceste z horniny tr.1-4, do 100 m3 na vzdialenosť do 3000 m | G132: m3 | H132: 82.46 | I132: 6.5 | J132: =ROUND(I132*H132,2) -> 535.99 | N132: znížená | O132: 0.071 | P132: =O132*H132 -> 5.85466 | Q132: 0 | R132: =Q132*H132 -> 0 | S132: 0 | T132: =S132*H132 -> 0 | AR132: 4 | AT132: K | AU132: 2 | AY132: ROZPOCET | BE132: =IF(N132="základná",J132,0) -> 0 | BF132: =IF(N132="znížená",J132,0) -> 535.99 | BG132: =IF(N132="zákl. prenesená",J132,0) -> 0 | BH132: =IF(N132="zníž. prenesená",J132,0) -> 0 | BI132: =IF(N132="nulová",J132,0) -> 0 | BJ132: 2 | BK132: =ROUND(I132*H132,2) -> 535.99 | BL132: 4 | BM132: 6
C133: 4 | D133: K | E133: 162501105 | F133: Vodorovné premiestnenie výkopku po spevnenej ceste z horniny tr.1-4, do 100 m3, príplatok k cene za každých ďalšich a začatých 1000 m | G133: m3 | H133: 577.22 | I133: 2.47 | J133: =ROUND(I133*H133,2) -> 1425.73 | N133: znížená | O133: 0.007 | P133: =O133*H133 -> 4.04054 | Q133: 0 | R133: =Q133*H133 -> 0 | S133: 0 | T133: =S133*H133 -> 0 | AR133: 4 | AT133: K | AU133: 2 | AY133: ROZPOCET | BE133: =IF(N133="základná",J133,0) -> 0 | BF133: =IF(N133="znížená",J133,0) -> 1425.73 | BG133: =IF(N133="zákl. prenesená",J133,0) -> 0 | BH133: =IF(N133="zníž. prenesená",J133,0) -> 0 | BI133: =IF(N133="nulová",J133,0) -> 0 | BJ133: 2 | BK133: =ROUND(I133*H133,2) -> 1425.73 | BL133: 4 | BM133: 8
C134: 5 | D134: K | E134: 171201101 | F134: Uloženie sypaniny do násypov s rozprestretím sypaniny vo vrstvách a s hrubým urovnaním nezhutnených | G134: m3 | H134: 82.46 | I134: 2.24 | J134: =ROUND(I134*H134,2) -> 184.71 | N134: znížená | O134: 0.031 | P134: =O134*H134 -> 2.55626 | Q134: 0 | R134: =Q134*H134 -> 0 | S134: 0 | T134: =S134*H134 -> 0 | AR134: 4 | AT134: K | AU134: 2 | AY134: ROZPOCET | BE134: =IF(N134="základná",J134,0) -> 0 | BF134: =IF(N134="znížená",J134,0) -> 184.71 | BG134: =IF(N134="zákl. prenesená",J134,0) -> 0 | BH134: =IF(N134="zníž. prenesená",J134,0) -> 0 | BI134: =IF(N134="nulová",J134,0) -> 0 | BJ134: 2 | BK134: =ROUND(I134*H134,2) -> 184.71 | BL134: 4 | BM134: 10
D135: D | E135: 2 | F135: Zakladanie | J135: =BK135 -> 443.48 | P135: =SUM(P136:P138) -> 5.24734 | R135: =SUM(R136:R138) -> 3.2502404 | T135: =SUM(T136:T138) -> 0 | AR135: 1 | AT135: D | AU135: 1 | AY135: ROZPOCET | BK135: =SUM(BK136:BK138) -> 443.48
C136: 6 | D136: K | E136: 275311117 | F136: Základové pätky a bloky mostných konštrukcií z betónu prostého tr. C 25/30 | G136: m3 | H136: 1.42 | I136: 120.75 | J136: =ROUND(I136*H136,2) -> 171.47 | N136: znížená | O136: 0.7 | P136: =O136*H136 -> 0.994 | Q136: 2.28671 | R136: =Q136*H136 -> 3.2471282 | S136: 0 | T136: =S136*H136 -> 0 | AR136: 4 | AT136: K | AU136: 2 | AY136: ROZPOCET | BE136: =IF(N136="základná",J136,0) -> 0 | BF136: =IF(N136="znížená",J136,0) -> 171.47 | BG136: =IF(N136="zákl. prenesená",J136,0) -> 0 | BH136: =IF(N136="zníž. prenesená",J136,0) -> 0 | BI136: =IF(N136="nulová",J136,0) -> 0 | BJ136: 2 | BK136: =ROUND(I136*H136,2) -> 171.47 | BL136: 4 | BM136: 12
C137: 7 | D137: K | E137: 289971241 | F137: Zhotovenie vrstvy z geotextílie (separačná) na uprav. povrchu zvislá | G137: m2 | H137: 103.74 | I137: 2.01 | J137: =ROUND(I137*H137,2) -> 208.52 | N137: znížená | O137: 0.041 | P137: =O137*H137 -> 4.25334 | Q137: 3e-05 | R137: =Q137*H137 -> 0.0031122 | S137: 0 | T137: =S137*H137 -> 0 | AR137: 4 | AT137: K | AU137: 2 | AY137: ROZPOCET | BE137: =IF(N137="základná",J137,0) -> 0 | BF137: =IF(N137="znížená",J137,0) -> 208.52 | BG137: =IF(N137="zákl. prenesená",J137,0) -> 0 | BH137: =IF(N137="zníž. prenesená",J137,0) -> 0 | BI137: =IF(N137="nulová",J137,0) -> 0 | BJ137: 2 | BK137: =ROUND(I137*H137,2) -> 208.52 | BL137: 4 | BM137: 14
C138: 8 | D138: M | E138: 6936654401 | F138: Separačná, filtračná a spevňovacia geotextília | G138: m2 | H138: 105.81 | I138: 0.6 | J138: =ROUND(I138*H138,2) -> 63.49 | N138: znížená | O138: 0 | P138: =O138*H138 -> 0 | Q138: 0 | R138: =Q138*H138 -> 0 | S138: 0 | T138: =S138*H138 -> 0 | AR138: 8 | AT138: M | AU138: 2 | AY138: ROZPOCET | BE138: =IF(N138="základná",J138,0) -> 0 | BF138: =IF(N138="znížená",J138,0) -> 63.49 | BG138: =IF(N138="zákl. prenesená",J138,0) -> 0 | BH138: =IF(N138="zníž. prenesená",J138,0) -> 0 | BI138: =IF(N138="nulová",J138,0) -> 0 | BJ138: 2 | BK138: =ROUND(I138*H138,2) -> 63.49 | BL138: 4 | BM138: 16
D139: D | E139: 3 | F139: Zvislé a kompletné konštrukcie | J139: =BK139 -> 2548.39 | P139: =SUM(P140:P142) -> 58.957 | R139: =SUM(R140:R142) -> 31.73 | T139: =SUM(T140:T142) -> 0 | AR139: 1 | AT139: D | AU139: 1 | AY139: ROZPOCET | BK139: =SUM(BK140:BK142) -> 2548.39
C140: 9 | D140: K | E140: 327210100 | F140: Montáž oporných a zárubných múrov z drôtokamenných košov z dvojzákrutovej šesťuholníkovej siete - pletených, priemer drôtu 2,7mm, povrchová ochrana | G140: m3 | H140: 19 | I140: 115 | J140: =ROUND(I140*H140,2) -> 2185 | N140: znížená | O140: 3.103 | P140: =O140*H140 -> 58.957 | Q140: 1.67 | R140: =Q140*H140 -> 31.73 | S140: 0 | T140: =S140*H140 -> 0 | AR140: 4 | AT140: K | AU140: 2 | AY140: ROZPOCET | BE140: =IF(N140="základná",J140,0) -> 0 | BF140: =IF(N140="znížená",J140,0) -> 2185 | BG140: =IF(N140="zákl. prenesená",J140,0) -> 0 | BH140: =IF(N140="zníž. prenesená",J140,0) -> 0 | BI140: =IF(N140="nulová",J140,0) -> 0 | BJ140: 2 | BK140: =ROUND(I140*H140,2) -> 2185 | BL140: 4 | BM140: 18
C141: 10 | D141: M | E141: 3131106581 | F141: Drôtokamenné koše - zvárané,s povrchovou ochranou (Zn+5%Al) | G141: m3 | H141: 19 | I141: 18.98 | J141: =ROUND(I141*H141,2) -> 360.62 | N141: znížená | O141: 0 | P141: =O141*H141 -> 0 | Q141: 0 | R141: =Q141*H141 -> 0 | S141: 0 | T141: =S141*H141 -> 0 | AR141: 8 | AT141: M | AU141: 2 | AY141: ROZPOCET | BE141: =IF(N141="základná",J141,0) -> 0 | BF141: =IF(N141="znížená",J141,0) -> 360.62 | BG141: =IF(N141="zákl. prenesená",J141,0) -> 0 | BH141: =IF(N141="zníž. prenesená",J141,0) -> 0 | BI141: =IF(N141="nulová",J141,0) -> 0 | BJ141: 2 | BK141: =ROUND(I141*H141,2) -> 360.62 | BL141: 4 | BM141: 20
C142: 11 | D142: K | E142: 348351113 | F142: Debnenie (stratené) základu stĺpika zábradlia (zvodidla) z korugovanej rúry DN 300 | G142: m | H142: 19.76 | I142: 0.14 | J142: =ROUND(I142*H142,2) -> 2.77 | N142: znížená | O142: 0 | P142: =O142*H142 -> 0 | Q142: 0 | R142: =Q142*H142 -> 0 | S142: 0 | T142: =S142*H142 -> 0 | AR142: 4 | AT142: K | AU142: 2 | AY142: ROZPOCET | BE142: =IF(N142="základná",J142,0) -> 0 | BF142: =IF(N142="znížená",J142,0) -> 2.77 | BG142: =IF(N142="zákl. prenesená",J142,0) -> 0 | BH142: =IF(N142="zníž. prenesená",J142,0) -> 0 | BI142: =IF(N142="nulová",J142,0) -> 0 | BJ142: 2 | BK142: =ROUND(I142*H142,2) -> 2.77 | BL142: 4 | BM142: 22
D143: D | E143: 5 | F143: Komunikácie | J143: =BK143 -> 2257.71 | P143: =SUM(P144:P145) -> 9.4464 | R143: =SUM(R144:R145) -> 61.896562 | T143: =SUM(T144:T145) -> 0 | AR143: 1 | AT143: D | AU143: 1 | AY143: ROZPOCET | BK143: =SUM(BK144:BK145) -> 2257.71
C144: 12 | D144: K | E144: 564791111 | F144: Podklad spevnenej plochy z kameniva drveného so zhutnením frakcie 0-63 mm | G144: m3 | H144: 32.05 | I144: 63.54 | J144: =ROUND(I144*H144,2) -> 2036.46 | N144: znížená | O144: 0.18 | P144: =O144*H144 -> 5.769 | Q144: 1.93125 | R144: =Q144*H144 -> 61.896562 | S144: 0 | T144: =S144*H144 -> 0 | AR144: 4 | AT144: K | AU144: 2 | AY144: ROZPOCET | BE144: =IF(N144="základná",J144,0) -> 0 | BF144: =IF(N144="znížená",J144,0) -> 2036.46 | BG144: =IF(N144="zákl. prenesená",J144,0) -> 0 | BH144: =IF(N144="zníž. prenesená",J144,0) -> 0 | BI144: =IF(N144="nulová",J144,0) -> 0 | BJ144: 2 | BK144: =ROUND(I144*H144,2) -> 2036.46 | BL144: 4 | BM144: 24
C145: 13 | D145: K | E145: 569903311 | F145: Zhotovenie zemných krajníc z hornín akejkoľvek triedy so zhutnením | G145: m3 | H145: 4.05 | I145: 54.63 | J145: =ROUND(I145*H145,2) -> 221.25 | N145: znížená | O145: 0.908 | P145: =O145*H145 -> 3.6774 | Q145: 0 | R145: =Q145*H145 -> 0 | S145: 0 | T145: =S145*H145 -> 0 | AR145: 4 | AT145: K | AU145: 2 | AY145: ROZPOCET | BE145: =IF(N145="základná",J145,0) -> 0 | BF145: =IF(N145="znížená",J145,0) -> 221.25 | BG145: =IF(N145="zákl. prenesená",J145,0) -> 0 | BH145: =IF(N145="zníž. prenesená",J145,0) -> 0 | BI145: =IF(N145="nulová",J145,0) -> 0 | BJ145: 2 | BK145: =ROUND(I145*H145,2) -> 221.25 | BL145: 4 | BM145: 26
D146: D | E146: 9 | F146: Ostatné konštrukcie a práce-búranie | J146: =BK146 -> 325.85 | P146: =P147 -> 10.45 | R146: =R147 -> 0.0338675 | T146: =T147 -> 0 | AR146: 1 | AT146: D | AU146: 1 | AY146: ROZPOCET | BK146: =BK147 -> 325.85
C147: 14 | D147: K | E147: 9197211101 | F147: Geomreža tuhá jednoosová | G147: m2 | H147: 95 | I147: 3.43 | J147: =ROUND(I147*H147,2) -> 325.85 | N147: znížená | O147: 0.11 | P147: =O147*H147 -> 10.45 | Q147: 0.0003565 | R147: =Q147*H147 -> 0.0338675 | S147: 0 | T147: =S147*H147 -> 0 | AR147: 4 | AT147: K | AU147: 2 | AY147: ROZPOCET | BE147: =IF(N147="základná",J147,0) -> 0 | BF147: =IF(N147="znížená",J147,0) -> 325.85 | BG147: =IF(N147="zákl. prenesená",J147,0) -> 0 | BH147: =IF(N147="zníž. prenesená",J147,0) -> 0 | BI147: =IF(N147="nulová",J147,0) -> 0 | BJ147: 2 | BK147: =ROUND(I147*H147,2) -> 325.85 | BL147: 4 | BM147: 28
D148: D | E148: 99 | F148: Presun hmôt HSV | J148: =BK148 -> 1.96 | P148: =P149 -> 3.9184 | R148: =R149 -> 0 | T148: =T149 -> 0 | AR148: 1 | AT148: D | AU148: 1 | AY148: ROZPOCET | BK148: =BK149 -> 1.96
C149: 15 | D149: K | E149: 998225111 | F149: Presun hmôt pre pozemnú komunikáciu a letisko s krytom asfaltovým akejkoľvek dĺžky objektu | G149: t | H149: 97.96 | I149: 0.02 | J149: =ROUND(I149*H149,2) -> 1.96 | N149: znížená | O149: 0.04 | P149: =O149*H149 -> 3.9184 | Q149: 0 | R149: =Q149*H149 -> 0 | S149: 0 | T149: =S149*H149 -> 0 | AR149: 4 | AT149: K | AU149: 2 | AY149: ROZPOCET | BE149: =IF(N149="základná",J149,0) -> 0 | BF149: =IF(N149="znížená",J149,0) -> 1.96 | BG149: =IF(N149="zákl. prenesená",J149,0) -> 0 | BH149: =IF(N149="zníž. prenesená",J149,0) -> 0 | BI149: =IF(N149="nulová",J149,0) -> 0 | BJ149: 2 | BK149: =ROUND(I149*H149,2) -> 1.96 | BL149: 4 | BM149: 30
