Workbook

Sheet Rekapitulácia stavby
A1: Export Komplet | BA1: 2.0 | BT1: False | BU1: False | BV1: {04239680-ec12-47d7-9ffe-5b705b7e1d11}
AR2: >> skryté stĺpce << | BS2: 0,01 | BT2: 20
BS3: 0,01 | BT3: 20
D4: REKAPITULÁCIA STAVBY | AS4: v --- nižšie sa nachádzajú doplnkové a pomocné údaje k zostavám --- v | BS4: 0,001
D5: Kód: | BS5: 0,01
D6: Stavba: | K6: Rekonštr.cesty II/499 Havran - naviac práce 1 (km 2,500-4,3716) | BS6: 0,01
D7: JKSO: | AK7: KS: | BS7: 0,01
D8: Miesto: | AK8: Dátum: | BS8: 0,01
BS9: 0,01
D10: Objednávateľ: | AK10: IČO: | AN10: 37836901 | BS10: 0,01
E11: Trnavský samosprávny kraj | AK11: IČ DPH: | BS11: 0,01
BS12: 0,01
D13: Zhotoviteľ: | AK13: IČO: | AN13: 00896225 | BS13: 0,01
E14: Swietelsky-Slovakia spol. s r.o. | AK14: IČ DPH: | AN14: SK2020294144 | BS14: 0,01
BS15: False
D16: Projektant: | AK16: IČO: | BS16: False
AK17: IČ DPH: | BS17: True
BS18: 0,01
D19: Spracovateľ: | AK19: IČO: | BS19: 0,01
AK20: IČ DPH: | BS20: True
D22: Poznámka:
D26: Cena bez DPH | AK26: =ROUND(AG91,2) -> 105385
L28: Sadzba dane | W28: Základ dane | AK28: Výška dane
D29: DPH | F29: základná
F30: znížená | L30: 0.2 | W30: =AK26 -> 105385 | AK30: =W30*0.2 -> 21077
D32: Cena s DPH | T32: v | X32: EUR | AK32: =AK26+AK30 -> 126462
D46: Projektant | AH46: Spracovateľ
D57: Dátum a podpis: | V57: Pečiatka | AH57: Dátum a podpis: | AM57: Pečiatka
D61: Objednávateľ | AH61: Zhotoviteľ
D72: Dátum a podpis: | V72: Pečiatka | AH72: Dátum a podpis: | AM72: Pečiatka
C79: REKAPITULÁCIA OBJEKTOV STAVBY
C81: Kód: | L81: =K5 -> 0
C82: Stavba: | L82: =K6 -> Rekonštr.cesty II/499 Havran - naviac práce 1 (km 2,500-4,3716)
C84: Miesto: | L84: =IF(K8="","",K8) | AI84: Dátum:
C86: Objednávateľ: | L86: =IF(E11= "","",E11) -> Trnavský samosprávny kraj | AI86: Projektant: | AM86: =IF(E17="","",E17) | AS86: Informatívne údaje z listov zákaziek
C87: Zhotoviteľ: | L87: =IF(E14="","",E14) -> Swietelsky-Slovakia spol. s r.o. | AI87: Spracovateľ: | AM87: =IF(E20="","",E20)
C89: Kód | I89: Popis | AG89: Cena bez DPH [EUR] | AN89: Cena s DPH [EUR] | AQ89: Typ | AS89: z toho Ostat._x000D_ náklady [EUR] | AT89: DPH [EUR] | AU89: Normohodiny [h] | AV89: DPH základná [EUR] | AW89: DPH znížená [EUR] | AX89: DPH základná prenesená_x000D_ [EUR] | AY89: DPH znížená prenesená_x000D_ [EUR] | AZ89: Základňa_x000D_ DPH základná | BA89: Základňa_x000D_ DPH znížená | BB89: Základňa_x000D_ DPH zákl. prenesená | BC89: Základňa_x000D_ DPH zníž. prenesená | BD89: Základňa_x000D_ DPH nulová
C91: Náklady z rozpočtov | AG91: =ROUND(AG92+AG95,2) -> 105385 | AN91: =AN92+AN95 -> 126462 | AS91: =ROUND(AS92+AS95,2) -> 0 | AT91: =ROUND(SUM(AV91:AW91),2) -> 10693.83 | AU91: =ROUND(AU92+AU95,5) -> 1620.7256 | AV91: =ROUND(AZ91*L29,2) -> 0 | AW91: =ROUND(BA91*L30,2) -> 10693.83 | AX91: =ROUND(BB91*L29,2) -> 0 | AY91: =ROUND(BC91*L30,2) -> 0 | AZ91: =ROUND(AZ92+AZ95,2) -> 0 | BA91: =ROUND(BA92+BA95,2) -> 53469.16 | BB91: =ROUND(BB92+BB95,2) -> 0 | BC91: =ROUND(BC92+BC95,2) -> 0 | BD91: =ROUND(BD92+BD95,2) -> 0 | BS91: D | BT91: 0 | BU91: ###NOIMPORT### | BV91: IMPORT | BW91: {04239680-ec12-47d7-9ffe-5b705b7e1d11} | BX91: {00000000-0000-0000-0000-000000000000}
D92: SO 101 | J92: SO 101 Rekonštrukcia a modernizácia cesty II/499 | AG92: 79855.99 | AN92: =AG92*1.2 -> 95827.188 | AQ92: STA | AS92: =ROUND(SUM(AS93:AS94),2) -> 0 | AT92: =ROUND(SUM(AV92:AW92),2) -> 8275.77 | AU92: =ROUND(SUM(AU93:AU94),5) -> 1304.1954 | AV92: =ROUND(AZ92*L29,2) -> 0 | AW92: =ROUND(BA92*L30,2) -> 8275.77 | AX92: =ROUND(BB92*L29,2) -> 0 | AY92: =ROUND(BC92*L30,2) -> 0 | AZ92: =ROUND(SUM(AZ93:AZ94),2) -> 0 | BA92: =ROUND(SUM(BA93:BA94),2) -> 41378.86 | BB92: =ROUND(SUM(BB93:BB94),2) -> 0 | BC92: =ROUND(SUM(BC93:BC94),2) -> 0 | BD92: =ROUND(SUM(BD93:BD94),2) -> 0 | BS92: D | BT92: 1 | BU92: ###NOIMPORT### | BV92: IMPORT | BW92: {481de41d-ecbe-4ad5-9164-d652a2a4eedb} | BX92: {04239680-ec12-47d7-9ffe-5b705b7e1d11} | CM92: 0
A93: / | E93: 01 nav. pr. 1 | K93: Výmena vozovky v km 2,5000 - 4,3716 | AG93: 30037.64 | AN93: =AG93*1.2 -> 36045.168 | AQ93: Časť | AS93: 0 | AT93: =ROUND(SUM(AV93:AW93),2) -> 5969.31 | AU93: ='01 nav. pr. 1 - Výmena vo...'!P131 -> 878.55041 | AV93: ='01 nav. pr. 1 - Výmena vo...'!J35 -> 0 | AW93: ='01 nav. pr. 1 - Výmena vo...'!J36 -> 5969.31 | AX93: ='01 nav. pr. 1 - Výmena vo...'!J37 -> 0 | AY93: ='01 nav. pr. 1 - Výmena vo...'!J38 -> 0 | AZ93: ='01 nav. pr. 1 - Výmena vo...'!F35 -> 0 | BA93: ='01 nav. pr. 1 - Výmena vo...'!F36 -> 29846.54 | BB93: ='01 nav. pr. 1 - Výmena vo...'!F37 -> 0 | BC93: ='01 nav. pr. 1 - Výmena vo...'!F38 -> 0 | BD93: ='01 nav. pr. 1 - Výmena vo...'!F39 -> 0 | BT93: 2 | BV93: IMPORT | BW93: {99dc300e-64a4-49f9-a18f-194bd44943d8} | BX93: {481de41d-ecbe-4ad5-9164-d652a2a4eedb}
...

Sheet 01 nav. pr. 1 - Výmena vo...
L2: >> skryté stĺpce << | AP2: {99dc300e-64a4-49f9-a18f-194bd44943d8}
AP3: 0
D4: KRYCÍ LIST ROZPOČTU | M4: v --- nižšie sa nachádzajú doplnkové a pomocné údaje k zostavám --- v | AP4: False
D6: Stavba:
E7: ='Rekapitulácia stavby'!K6 -> Rekonštr.cesty II/499 Havran - naviac práce 1 (km 2,500-4,3716)
D8: Objekt:
E9: SO 101 - SO 101 Rekonštrukcia a modernizácia cesty II/499
D10: Časť:
E11: 01 nav. pr. 1 - Výmena vozovky v km 2,5000-4,3716
D13: JKSO: | I13: KS:
D14: Miesto: | I14: Dátum: | J14: ='Rekapitulácia stavby'!AN8 -> 0
D16: Objednávateľ: | I16: IČO: | J16: 37836901
E17: Trnavský samosprávny kraj | I17: IČ DPH:
D19: Zhotoviteľ: | I19: IČO: | J19: 00896225
E20: Swietelsky-Slovakia spol. s r.o. | I20: IČ DPH: | J20: SK2020294144
D22: Projektant: | I22: IČO: | J22: =IF('Rekapitulácia stavby'!AN16="","",'Rekapitulácia stavby'!AN16)
E23: =IF('Rekapitulácia stavby'!E17="","",'Rekapitulácia stavby'!E17) | I23: IČ DPH: | J23: =IF('Rekapitulácia stavby'!AN17="","",'Rekapitulácia stavby'!AN17)
D25: Spracovateľ: | I25: IČO: | J25: =IF('Rekapitulácia stavby'!AN19="","",'Rekapitulácia stavby'!AN19)
E26: =IF('Rekapitulácia stavby'!E20="","",'Rekapitulácia stavby'!E20) | I26: IČ DPH: | J26: =IF('Rekapitulácia stavby'!AN20="","",'Rekapitulácia stavby'!AN20)
D28: Poznámka:
D32: Cena bez DPH | J32: =ROUND(J131, 2) -> 30037.64
F34: Základ dane | I34: Sadzba dane | J34: Výška dane
D35: DPH | E35: základná | F35: =ROUND((SUM(BA131:BA250)), 2) -> 0 | I35: 0.2 | J35: =ROUND(((SUM(BA131:BA250))*I35), 2) -> 0
E36: znížená | F36: =ROUND((SUM(BB131:BB250)), 2) -> 29846.54 | I36: 0.2 | J36: =ROUND(((SUM(BB131:BB250))*I36), 2) -> 5969.31
E37: zákl. prenesená | F37: =ROUND((SUM(BC131:BC250)), 2) -> 0 | I37: 0.2 | J37: =0 -> 0
E38: zníž. prenesená | F38: =ROUND((SUM(BD131:BD250)), 2) -> 0 | I38: 0.2 | J38: =0 -> 0
E39: nulová | F39: =ROUND((SUM(BE131:BE250)), 2) -> 0 | I39: 0 | J39: =0 -> 0
D41: Cena s DPH | G41: v | H41: EUR | J41: =SUM(J32:J39) -> 36006.95
D50: Projektant | G50: Spracovateľ
D61: Dátum a podpis: | F61: Pečiatka | G61: Dátum a podpis: | J61: Pečiatka
D65: Objednávateľ | G65: Zhotoviteľ
D76: Dátum a podpis: | F76: Pečiatka | G76: Dátum a podpis: | J76: Pečiatka
C82: REKAPITULÁCIA ROZPOČTU
C84: Stavba:
E85: =E7 -> Rekonštr.cesty II/499 Havran - naviac práce 1 (km 2,500-4,3716)
C86: Objekt:
E87: SO 101 - SO 101 Rekonštrukcia a modernizácia cesty II/499
C88: Časť:
E89: =E11 -> 01 nav. pr. 1 - Výmena vozovky v km 2,5000-4,3716
C91: Miesto: | F91: =F14 | I91: Dátum: | J91: =IF(J14="","",J14) -> 0
...

Sheet 02 nav. pr. 1 - Zvýšenie ...
L2: >> skryté stĺpce << | AT2: {87727b83-0fd2-4bb7-9108-dddad7b8603c}
AT3: 0
D4: KRYCÍ LIST ROZPOČTU | M4: v --- nižšie sa nachádzajú doplnkové a pomocné údaje k zostavám --- v | AT4: False
D6: Stavba:
E7: ='Rekapitulácia stavby'!K6 -> Rekonštr.cesty II/499 Havran - naviac práce 1 (km 2,500-4,3716)
D8: Objekt:
E9: SO 101 - SO 101 Rekonštrukcia a modernizácia cesty II/499
D10: Časť:
E11: 02 nav. pr. 1 - Zvýšenie únosnosti podložia v km 3,6322-3,9000 vľavo
D13: JKSO: | I13: KS:
D14: Miesto: | I14: Dátum: | J14: ='Rekapitulácia stavby'!AN8 -> 0
D16: Objednávateľ: | I16: IČO: | J16: 37836901
E17: Trnavský samosprávny kraj | I17: IČ DPH:
D19: Zhotoviteľ: | I19: IČO: | J19: 00896225
E20: Swietelsky-Slovakia spol. s r.o. | I20: IČ DPH: | J20: SK2020294144
D22: Projektant: | I22: IČO: | J22: =IF('Rekapitulácia stavby'!AN16="","",'Rekapitulácia stavby'!AN16)
E23: =IF('Rekapitulácia stavby'!E17="","",'Rekapitulácia stavby'!E17) | I23: IČ DPH: | J23: =IF('Rekapitulácia stavby'!AN17="","",'Rekapitulácia stavby'!AN17)
D25: Spracovateľ: | I25: IČO: | J25: =IF('Rekapitulácia stavby'!AN19="","",'Rekapitulácia stavby'!AN19)
E26: =IF('Rekapitulácia stavby'!E20="","",'Rekapitulácia stavby'!E20) | I26: IČ DPH: | J26: =IF('Rekapitulácia stavby'!AN20="","",'Rekapitulácia stavby'!AN20)
D28: Poznámka:
E29: Zvýšenie únosnosti
D32: Cena bez DPH | J32: =ROUND(J126, 2) -> 49818.35
F34: Základ dane | I34: Sadzba dane | J34: Výška dane
D35: DPH | E35: základná | F35: =ROUND((SUM(BE126:BE157)), 2) -> 0 | I35: 0.2 | J35: =ROUND(((SUM(BE126:BE157))*I35), 2) -> 0
E36: znížená | F36: =ROUND((SUM(BF126:BF157)), 2) -> 11532.32 | I36: 0.2 | J36: =ROUND(((SUM(BF126:BF157))*I36), 2) -> 2306.46
E37: zákl. prenesená | F37: =ROUND((SUM(BG126:BG157)), 2) -> 0 | I37: 0.2 | J37: =0 -> 0
E38: zníž. prenesená | F38: =ROUND((SUM(BH126:BH157)), 2) -> 0 | I38: 0.2 | J38: =0 -> 0
E39: nulová | F39: =ROUND((SUM(BI126:BI157)), 2) -> 0 | I39: 0 | J39: =0 -> 0
D41: Cena s DPH | G41: v | H41: EUR | J41: =SUM(J32:J39) -> 52124.81
D50: Projektant | G50: Spracovateľ
D61: Dátum a podpis: | F61: Pečiatka | G61: Dátum a podpis: | J61: Pečiatka
D65: Objednávateľ | G65: Zhotoviteľ
D76: Dátum a podpis: | F76: Pečiatka | G76: Dátum a podpis: | J76: Pečiatka
C82: REKAPITULÁCIA ROZPOČTU
C84: Stavba:
E85: =E7 -> Rekonštr.cesty II/499 Havran - naviac práce 1 (km 2,500-4,3716)
C86: Objekt:
E87: SO 101 - SO 101 Rekonštrukcia a modernizácia cesty II/499
C88: Časť:
E89: =E11 -> 02 nav. pr. 1 - Zvýšenie únosnosti podložia v km 3,6322-3,9000 vľavo
...

Sheet 01 nav. pr. 1 - Zvýšenie ...
L2: >> skryté stĺpce << | AT2: {2d71651e-d198-484f-b671-7be27ed78c73}
AT3: 0
D4: KRYCÍ LIST ROZPOČTU | M4: v --- nižšie sa nachádzajú doplnkové a pomocné údaje k zostavám --- v | AT4: False
D6: Stavba:
E7: ='Rekapitulácia stavby'!K6 -> Rekonštr.cesty II/499 Havran - naviac práce 1 (km 2,500-4,3716)
D8: Objekt:
E9: SO 208 - SO 208 - Gabiónový múr v km 3,050-3,125 cesty II/499 vpravo
D10: Časť:
E11: 01 nav. pr. 1 - Zvýšenie únosnosti podložia
D13: JKSO: | I13: KS:
D14: Miesto: | I14: Dátum: | J14: ='Rekapitulácia stavby'!AN8 -> 0
D16: Objednávateľ: | I16: IČO: | J16: 37836901
E17: Trnavský samosprávny kraj | I17: IČ DPH:
D19: Zhotoviteľ: | I19: IČO: | J19: 00896225
E20: Swietelsky-Slovakia spol. s r.o. | I20: IČ DPH: | J20: SK2020294144
D22: Projektant: | I22: IČO: | J22: =IF('Rekapitulácia stavby'!AN16="","",'Rekapitulácia stavby'!AN16)
E23: =IF('Rekapitulácia stavby'!E17="","",'Rekapitulácia stavby'!E17) | I23: IČ DPH: | J23: =IF('Rekapitulácia stavby'!AN17="","",'Rekapitulácia stavby'!AN17)
D25: Spracovateľ: | I25: IČO: | J25: =IF('Rekapitulácia stavby'!AN19="","",'Rekapitulácia stavby'!AN19)
E26: =IF('Rekapitulácia stavby'!E20="","",'Rekapitulácia stavby'!E20) | I26: IČ DPH: | J26: =IF('Rekapitulácia stavby'!AN20="","",'Rekapitulácia stavby'!AN20)
D28: Poznámka:
E29: Zvýšenie únosnosti
D32: Cena bez DPH | J32: =ROUND(J126, 2) -> 17398.08
F34: Základ dane | I34: Sadzba dane | J34: Výška dane
D35: DPH | E35: základná | F35: =ROUND((SUM(BE126:BE156)), 2) -> 0 | I35: 0.2 | J35: =ROUND(((SUM(BE126:BE156))*I35), 2) -> 0
E36: znížená | F36: =ROUND((SUM(BF126:BF156)), 2) -> 3959.37 | I36: 0.2 | J36: =ROUND(((SUM(BF126:BF156))*I36), 2) -> 791.87
E37: zákl. prenesená | F37: =ROUND((SUM(BG126:BG156)), 2) -> 0 | I37: 0.2 | J37: =0 -> 0
E38: zníž. prenesená | F38: =ROUND((SUM(BH126:BH156)), 2) -> 0 | I38: 0.2 | J38: =0 -> 0
E39: nulová | F39: =ROUND((SUM(BI126:BI156)), 2) -> 0 | I39: 0 | J39: =0 -> 0
D41: Cena s DPH | G41: v | H41: EUR | J41: =SUM(J32:J39) -> 18189.95
D50: Projektant | G50: Spracovateľ
D61: Dátum a podpis: | F61: Pečiatka | G61: Dátum a podpis: | J61: Pečiatka
D65: Objednávateľ | G65: Zhotoviteľ
D76: Dátum a podpis: | F76: Pečiatka | G76: Dátum a podpis: | J76: Pečiatka
C82: REKAPITULÁCIA ROZPOČTU
C84: Stavba:
E85: =E7 -> Rekonštr.cesty II/499 Havran - naviac práce 1 (km 2,500-4,3716)
C86: Objekt:
E87: SO 208 - SO 208 - Gabiónový múr v km 3,050-3,125 cesty II/499 vpravo
C88: Časť:
E89: =E11 -> 01 nav. pr. 1 - Zvýšenie únosnosti podložia
...

Sheet 02 nav. pr. 1 - Predíženi...
L2: >> skryté stĺpce << | AT2: {1e24f6ec-3d2e-4306-a1f4-67b6c8898d80}
AT3: 0
D4: KRYCÍ LIST ROZPOČTU | M4: v --- nižšie sa nachádzajú doplnkové a pomocné údaje k zostavám --- v | AT4: False
D6: Stavba:
E7: ='Rekapitulácia stavby'!K6 -> Rekonštr.cesty II/499 Havran - naviac práce 1 (km 2,500-4,3716)
D8: Objekt:
E9: SO 208 - SO 208 - Gabiónový múr v km 3,050-3,125 cesty II/499 vpravo
D10: Časť:
E11: 02 nav. pr. 1 - Predíženie múru v km 3,1250-
D13: JKSO: | I13: KS:
D14: Miesto: | I14: Dátum: | J14: ='Rekapitulácia stavby'!AN8 -> 0
D16: Objednávateľ: | I16: IČO: | J16: 37836901
E17: Trnavský samosprávny kraj | I17: IČ DPH:
D19: Zhotoviteľ: | I19: IČO: | J19: 00896225
E20: Swietelsky-Slovakia spol. s r.o. | I20: IČ DPH: | J20: SK2020294144
D22: Projektant: | I22: IČO: | J22: =IF('Rekapitulácia stavby'!AN16="","",'Rekapitulácia stavby'!AN16)
E23: =IF('Rekapitulácia stavby'!E17="","",'Rekapitulácia stavby'!E17) | I23: IČ DPH: | J23: =IF('Rekapitulácia stavby'!AN17="","",'Rekapitulácia stavby'!AN17)
D25: Spracovateľ: | I25: IČO: | J25: =IF('Rekapitulácia stavby'!AN19="","",'Rekapitulácia stavby'!AN19)
E26: =IF('Rekapitulácia stavby'!E20="","",'Rekapitulácia stavby'!E20) | I26: IČ DPH: | J26: =IF('Rekapitulácia stavby'!AN20="","",'Rekapitulácia stavby'!AN20)
D28: Poznámka:
D32: Cena bez DPH | J32: =ROUND(J127, 2) -> 8130.93
F34: Základ dane | I34: Sadzba dane | J34: Výška dane
D35: DPH | E35: základná | F35: =ROUND((SUM(BE127:BE149)), 2) -> 0 | I35: 0.2 | J35: =ROUND(((SUM(BE127:BE149))*I35), 2) -> 0
E36: znížená | F36: =ROUND((SUM(BF127:BF149)), 2) -> 8130.93 | I36: 0.2 | J36: =ROUND(((SUM(BF127:BF149))*I36), 2) -> 1626.19
E37: zákl. prenesená | F37: =ROUND((SUM(BG127:BG149)), 2) -> 0 | I37: 0.2 | J37: =0 -> 0
E38: zníž. prenesená | F38: =ROUND((SUM(BH127:BH149)), 2) -> 0 | I38: 0.2 | J38: =0 -> 0
E39: nulová | F39: =ROUND((SUM(BI127:BI149)), 2) -> 0 | I39: 0 | J39: =0 -> 0
D41: Cena s DPH | G41: v | H41: EUR | J41: =SUM(J32:J39) -> 9757.12
D50: Projektant | G50: Spracovateľ
D61: Dátum a podpis: | F61: Pečiatka | G61: Dátum a podpis: | J61: Pečiatka
D65: Objednávateľ | G65: Zhotoviteľ
D76: Dátum a podpis: | F76: Pečiatka | G76: Dátum a podpis: | J76: Pečiatka
C82: REKAPITULÁCIA ROZPOČTU
C84: Stavba:
E85: =E7 -> Rekonštr.cesty II/499 Havran - naviac práce 1 (km 2,500-4,3716)
C86: Objekt:
E87: SO 208 - SO 208 - Gabiónový múr v km 3,050-3,125 cesty II/499 vpravo
C88: Časť:
E89: =E11 -> 02 nav. pr. 1 - Predíženie múru v km 3,1250-
C91: Miesto: | F91: =F14 | I91: Dátum: | J91: =IF(J14="","",J14) -> 0
...
